Workbook

Sheet TK-18C1
A1: THỐNG KÊ TỶ LỆ % THỰC HÀNH TOÀN CHƯƠNG TRÌNH TRÌNH ĐỘ CAO ĐẲNG - KHÓA 2018
A2: TT | B2: Tên ngành | C2: Số giờ TH | D2: Số giờ tổng | E2: Tỷ lệ % TH | F2: Số giờ 40% | G2: Số giờ TTTN | H2: Số TC học tại DN | I2: Số môn TT/ số tín chỉ của HK4 | K2: Số giờ TH | L2: Số giờ TH | M2: Số giờ tổng | N2: Tỷ lệ % TH | O2: Số giờ 40% | P2: Số giờ TTTN | Q2: Số TC học tại DN | R2: Số TC học tại DN thay đổi bổ sung kiến tập | T2: Số giờ TH | V2: Số giờ tổng | W2: Tỷ lệ % TH | X2: Số giờ 40% | Y2: Số giờ TTTN | Z2: Số TC học tại DN
A3: 1 | B3: Kỹ thuật xây dựng | C3: =930+52 -> 982 | D3: 1875 | E3: =ROUND(C3*100/D3,1) -> 52.4 | F3: =C3*0.4 -> 392.8 | G3: 270 | H3: =ROUND((F3-G3)/30,0) -> 4 | I3: 3/6 | K3: =930+52 -> 982 | L3: =K3+90 -> 1072 | M3: 1875 | N3: =ROUND(L3*100/M3,1) -> 57.2 | O3: =L3*0.4 -> 428.8 | P3: 270 | Q3: 6 | R3: =Q3-'3.1-khoa2018-C1'!H3 -> 4 | T3: =930+52 -> 982 | U3: =T3+60 -> 1042 | V3: 1875 | W3: =ROUND(U3*100/V3,1) -> 55.6 | X3: =U3*0.4 -> 416.8 | Y3: 270 | Z3: =ROUND((X3-Y3)/30,0) -> 5
A4: 2 | B4: Cơ điện tử | C4: =1170+44 -> 1214 | D4: 1995 | E4: =ROUND(C4*100/D4,1) -> 60.9 | F4: =C4*0.4 -> 485.6 | G4: 270 | H4: =ROUND((F4-G4)/30,0) -> 7 | I4: 6/12 | K4: =1170+44 -> 1214 | L4: =K4+90 -> 1304 | M4: 1995 | N4: =ROUND(L4*100/M4,1) -> 65.4 | O4: =L4*0.4 -> 521.6 | P4: 270 | Q4: 9 | R4: =Q4-'3.1-khoa2018-C1'!H4 -> 4 | T4: =1170+44 -> 1214 | U4: =T4+60 -> 1274 | V4: 1995 | W4: =ROUND(U4*100/V4,1) -> 63.9 | X4: =U4*0.4 -> 509.6 | Y4: 270 | Z4: =ROUND((X4-Y4)/30,0) -> 8
A5: 3 | B5: CNKT Điện Điện tử | C5: =1170+44 -> 1214 | D5: 1995 | E5: =ROUND(C5*100/D5,1) -> 60.9 | F5: =C5*0.4 -> 485.6 | G5: 270 | H5: =ROUND((F5-G5)/30,0) -> 7 | I5: 6/12 | K5: =1170+44 -> 1214 | L5: =K5+90 -> 1304 | M5: 1995 | N5: =ROUND(L5*100/M5,1) -> 65.4 | O5: =L5*0.4 -> 521.6 | P5: 270 | Q5: 9 | R5: =Q5-'3.1-khoa2018-C1'!H5 -> 4 | T5: =1170+44 -> 1214 | U5: =T5+60 -> 1274 | V5: 1995 | W5: =ROUND(U5*100/V5,1) -> 63.9 | X5: =U5*0.4 -> 509.6 | Y5: 270 | Z5: =ROUND((X5-Y5)/30,0) -> 8
A6: 4 | B6: CNKT Điều khiển tự động hóa | C6: =1170+44 -> 1214 | D6: 1995 | E6: =ROUND(C6*100/D6,1) -> 60.9 | F6: =C6*0.4 -> 485.6 | G6: 270 | H6: =ROUND((F6-G6)/30,0) -> 7 | I6: 6/12 | K6: =1170+44 -> 1214 | L6: =K6+90 -> 1304 | M6: 1995 | N6: =ROUND(L6*100/M6,1) -> 65.4 | O6: =L6*0.4 -> 521.6 | P6: 270 | Q6: 9 | R6: =Q6-'3.1-khoa2018-C1'!H6 -> 4 | T6: =1170+44 -> 1214 | U6: =T6+60 -> 1274 | V6: 1995 | W6: =ROUND(U6*100/V6,1) -> 63.9 | X6: =U6*0.4 -> 509.6 | Y6: 270 | Z6: =ROUND((X6-Y6)/30,0) -> 8
A7: 5 | B7: Điện công nghiệp | C7: =1170+44 -> 1214 | D7: 1995 | E7: =ROUND(C7*100/D7,1) -> 60.9 | F7: =C7*0.4 -> 485.6 | G7: 270 | H7: =ROUND((F7-G7)/30,0) -> 7 | I7: 6/12 | K7: =1170+44 -> 1214 | L7: =K7+90 -> 1304 | M7: 1995 | N7: =ROUND(L7*100/M7,1) -> 65.4 | O7: =L7*0.4 -> 521.6 | P7: 270 | Q7: 9 | R7: =Q7-'3.1-khoa2018-C1'!H7 -> 4 | T7: =1170+44 -> 1214 | U7: =T7+60 -> 1274 | V7: 1995 | W7: =ROUND(U7*100/V7,1) -> 63.9 | X7: =U7*0.4 -> 509.6 | Y7: 270 | Z7: =ROUND((X7-Y7)/30,0) -> 8
A8: 6 | B8: CNKT Nhiệt | C8: =1050+46 -> 1096 | D8: 1935 | E8: =ROUND(C8*100/D8,1) -> 56.6 | F8: =C8*0.4 -> 438.4 | G8: 270 | H8: =ROUND((F8-G8)/30,0) -> 6 | I8: 3/7 | K8: =1050+46 -> 1096 | L8: =K8+90 -> 1186 | M8: 1935 | N8: =ROUND(L8*100/M8,1) -> 61.3 | O8: =L8*0.4 -> 474.4 | P8: 270 | Q8: 7 | R8: =Q8-'3.1-khoa2018-C1'!H8 -> 3 | T8: =1050+46 -> 1096 | U8: =T8+60 -> 1156 | V8: 1935 | W8: =ROUND(U8*100/V8,1) -> 59.7 | X8: =U8*0.4 -> 462.4 | Y8: 270 | Z8: =ROUND((X8-Y8)/30,0) -> 6
A9: 7 | B9: KTML và ĐHKK | C9: =1140+44 -> 1184 | D9: 1890 | E9: =ROUND(C9*100/D9,1) -> 62.6 | F9: =C9*0.4 -> 473.6 | G9: 270 | H9: =ROUND((F9-G9)/30,0) -> 7 | I9: 4/8 | K9: =1140+44 -> 1184 | L9: =K9+90 -> 1274 | M9: 1890 | N9: =ROUND(L9*100/M9,1) -> 67.4 | O9: =L9*0.4 -> 509.6 | P9: 270 | Q9: 8 | R9: =Q9-'3.1-khoa2018-C1'!H9 -> 3 | T9: =1140+44 -> 1184 | U9: =T9+60 -> 1244 | V9: 1890 | W9: =ROUND(U9*100/V9,1) -> 65.8 | X9: =U9*0.4 -> 497.6 | Y9: 270 | Z9: =ROUND((X9-Y9)/30,0) -> 8
A10: 8 | B10: VHSC Thiết bị lạnh | C10: =1140+44 -> 1184 | D10: 1980 | E10: =ROUND(C10*100/D10,1) -> 59.8 | F10: =C10*0.4 -> 473.6 | G10: 270 | H10: =ROUND((F10-G10)/30,0) -> 7 | I10: 4/8 | K10: =1140+44 -> 1184 | L10: =K10+90 -> 1274 | M10: 1980 | N10: =ROUND(L10*100/M10,1) -> 64.3 | O10: =L10*0.4 -> 509.6 | P10: 270 | Q10: 8 | R10: =Q10-'3.1-khoa2018-C1'!H10 -> 3 | T10: =1140+44 -> 1184 | U10: =T10+60 -> 1244 | V10: 1980 | W10: =ROUND(U10*100/V10,1) -> 62.8 | X10: =U10*0.4 -> 497.6 | Y10: 270 | Z10: =ROUND((X10-Y10)/30,0) -> 8
A11: 9 | B11: CNKT Cơ khí | C11: =1140+42 -> 1182 | D11: 1980 | E11: =ROUND(C11*100/D11,1) -> 59.7 | F11: =C11*0.4 -> 472.8 | G11: 270 | H11: =ROUND((F11-G11)/30,0) -> 7 | I11: 5/10 | K11: =1140+42 -> 1182 | L11: =K11+90 -> 1272 | M11: 1980 | N11: =ROUND(L11*100/M11,1) -> 64.2 | O11: =L11*0.4 -> 508.8 | P11: 270 | Q11: 8 | R11: =Q11-'3.1-khoa2018-C1'!H11 -> 3 | T11: =1140+42 -> 1182 | U11: =T11+60 -> 1242 | V11: 1980 | W11: =ROUND(U11*100/V11,1) -> 62.7 | X11: =U11*0.4 -> 496.8 | Y11: 270 | Z11: =ROUND((X11-Y11)/30,0) -> 8
A12: 10 | B12: Cơ khí chế tạo | U12: =T12+60 -> 60 | W12: =ROUND(U12*100/V12,1) -> #DIV/0! | X12: =U12*0.4 -> 24
A13: 11 | B13: Công nghệ Chế tạo máy | C13: =1240 -> 1240 | D13: 2010 | E13: =ROUND(C13*100/D13,1) -> 61.7 | F13: =C13*0.4 -> 496 | G13: 270 | H13: =ROUND((F13-G13)/30,0) -> 8 | I13: 5/10 | K13: =1240 -> 1240 | L13: =K13+90 -> 1330 | M13: 2010 | N13: =ROUND(L13*100/M13,1) -> 66.2 | O13: =L13*0.4 -> 532 | P13: 270 | Q13: 9 | R13: =Q13-'3.1-khoa2018-C1'!H13 -> 3 | T13: =1240 -> 1240 | U13: =T13+60 -> 1300 | V13: 2010 | W13: =ROUND(U13*100/V13,1) -> 64.7 | X13: =U13*0.4 -> 520 | Y13: 270 | Z13: =ROUND((X13-Y13)/30,0) -> 8
A14: 12 | B14: Cắt gọt kim loại | C14: 1240 | D14: 2010 | E14: =ROUND(C14*100/D14,1) -> 61.7 | F14: =C14*0.4 -> 496 | G14: 270 | H14: =ROUND((F14-G14)/30,0) -> 8 | I14: 5/10 | K14: 1240 | L14: =K14+90 -> 1330 | M14: 2010 | N14: =ROUND(L14*100/M14,1) -> 66.2 | O14: =L14*0.4 -> 532 | P14: 270 | Q14: 9 | R14: =Q14-'3.1-khoa2018-C1'!H14 -> 3 | T14: 1240 | U14: =T14+60 -> 1300 | V14: 2010 | W14: =ROUND(U14*100/V14,1) -> 64.7 | X14: =U14*0.4 -> 520 | Y14: 270 | Z14: =ROUND((X14-Y14)/30,0) -> 8
A15: 13 | B15: BTHT Thiết bị công nghiệp | C15: =1125+46 -> 1171 | D15: 1980 | E15: =ROUND(C15*100/D15,1) -> 59.1 | F15: =C15*0.4 -> 468.4 | G15: 270 | H15: =ROUND((F15-G15)/30,0) -> 7 | I15: 5/9 | K15: =1125+46 -> 1171 | L15: =K15+90 -> 1261 | M15: 1980 | N15: =ROUND(L15*100/M15,1) -> 63.7 | O15: =L15*0.4 -> 504.4 | P15: 270 | Q15: 8 | R15: =Q15-'3.1-khoa2018-C1'!H15 -> 3 | T15: =1125+46 -> 1171 | U15: =T15+60 -> 1231 | V15: 1980 | W15: =ROUND(U15*100/V15,1) -> 62.2 | X15: =U15*0.4 -> 492.4 | Y15: 270 | Z15: =ROUND((X15-Y15)/30,0) -> 7
A16: 14 | B16: Công nghệ ô tô | C16: =1140+40 -> 1180 | D16: 1980 | E16: =ROUND(C16*100/D16,1) -> 59.6 | F16: =C16*0.4 -> 472 | G16: 270 | H16: =ROUND((F16-G16)/30,0) -> 7 | I16: 5/13 | K16: =1140+40 -> 1180 | L16: =K16+90 -> 1270 | M16: 1980 | N16: =ROUND(L16*100/M16,1) -> 64.1 | O16: =L16*0.4 -> 508 | P16: 270 | Q16: 8 | R16: =Q16-'3.1-khoa2018-C1'!H16 -> 3 | T16: =1140+40 -> 1180 | U16: =T16+60 -> 1240 | V16: 1980 | W16: =ROUND(U16*100/V16,1) -> 62.6 | X16: =U16*0.4 -> 496 | Y16: 270 | Z16: =ROUND((X16-Y16)/30,0) -> 8
A17: 15 | B17: Thương mại điện tử | C17: =1248 -> 1248 | D17: 2010 | E17: =ROUND(C17*100/D17,1) -> 62.1 | F17: =C17*0.4 -> 499.2 | G17: 270 | H17: =ROUND((F17-G17)/30,0) -> 8 | I17: 7/23 chỉ T,hành có 16 mô đun | K17: =1248 -> 1248 | L17: =K17+90 -> 1338 | M17: 2010 | N17: =ROUND(L17*100/M17,1) -> 66.6 | O17: =L17*0.4 -> 535.2 | P17: 270 | Q17: 9 | R17: =Q17-'3.1-khoa2018-C1'!H17 -> 3 | T17: =1248 -> 1248 | U17: =T17+60 -> 1308 | V17: 2010 | W17: =ROUND(U17*100/V17,1) -> 65.1 | X17: =U17*0.4 -> 523.2 | Y17: 270 | Z17: =ROUND((X17-Y17)/30,0) -> 8
A18: 16 | B18: Quản trị mạng máy tính | C18: =1170+52 -> 1222 | D18: 1995 | E18: =ROUND(C18*100/D18,1) -> 61.3 | F18: =C18*0.4 -> 488.8 | G18: 270 | H18: =ROUND((F18-G18)/30,0) -> 7 | I18: 7/22 chỉ T,hành có 20 mô đun | K18: =1170+52 -> 1222 | L18: =K18+90 -> 1312 | M18: 1995 | N18: =ROUND(L18*100/M18,1) -> 65.8 | O18: =L18*0.4 -> 524.8 | P18: 270 | Q18: 9 | R18: =Q18-'3.1-khoa2018-C1'!H18 -> 3 | T18: =1170+52 -> 1222 | U18: =T18+60 -> 1282 | V18: 1995 | W18: =ROUND(U18*100/V18,1) -> 64.3 | X18: =U18*0.4 -> 512.8 | Y18: 270 | Z18: =ROUND((X18-Y18)/30,0) -> 8
A19: 17 | B19: CNKT máy tính | C19: =1170+52 -> 1222 | D19: 1995 | E19: =ROUND(C19*100/D19,1) -> 61.3 | F19: =C19*0.4 -> 488.8 | G19: 270 | H19: =ROUND((F19-G19)/30,0) -> 7 | I19: 6/23 chỉ T,hành có 19 mô đun | K19: =1170+52 -> 1222 | L19: =K19+90 -> 1312 | M19: 1995 | N19: =ROUND(L19*100/M19,1) -> 65.8 | O19: =L19*0.4 -> 524.8 | P19: 270 | Q19: 9 | R19: =Q19-'3.1-khoa2018-C1'!H19 -> 3 | T19: =1170+52 -> 1222 | U19: =T19+60 -> 1282 | V19: 1995 | W19: =ROUND(U19*100/V19,1) -> 64.3 | X19: =U19*0.4 -> 512.8 | Y19: 270 | Z19: =ROUND((X19-Y19)/30,0) -> 8
A20: 18 | B20: Thiết kế đồ họa | C20: =1230+54 -> 1284 | D20: 2025 | E20: =ROUND(C20*100/D20,1) -> 63.4 | F20: =C20*0.4 -> 513.6 | G20: 270 | H20: =ROUND((F20-G20)/30,0) -> 8 | I20: 6/24 chỉ T,hành có 20 mô đun | K20: =1230+54 -> 1284 | L20: =K20+90 -> 1374 | M20: 2025 | N20: =ROUND(L20*100/M20,1) -> 67.9 | O20: =L20*0.4 -> 549.6 | P20: 270 | Q20: 10 | R20: =Q20-'3.1-khoa2018-C1'!H20 -> 4 | T20: =1230+54 -> 1284 | U20: =T20+60 -> 1344 | V20: 2025 | W20: =ROUND(U20*100/V20,1) -> 66.4 | X20: =U20*0.4 -> 537.6 | Y20: 270 | Z20: =ROUND((X20-Y20)/30,0) -> 9
A21: 19 | B21: An ninh mạng | U21: =T21+60 -> 60 | W21: =ROUND(U21*100/V21,1) -> #DIV/0! | X21: =U21*0.4 -> 24
A22: 20 | B22: Lập trình máy tính | C22: 1248 | D22: 2010 | E22: =ROUND(C22*100/D22,1) -> 62.1 | F22: =C22*0.4 -> 499.2 | G22: 270 | H22: =ROUND((F22-G22)/30,0) -> 8 | I22: 5/23 chỉ T,hành có 18 mô đun | K22: 1248 | L22: =K22+90 -> 1338 | M22: 2010 | N22: =ROUND(L22*100/M22,1) -> 66.6 | O22: =L22*0.4 -> 535.2 | P22: 270 | Q22: 9 | R22: =Q22-'3.1-khoa2018-C1'!H22 -> 3 | T22: 1248 | U22: =T22+60 -> 1308 | V22: 2010 | W22: =ROUND(U22*100/V22,1) -> 65.1 | X22: =U22*0.4 -> 523.2 | Y22: 270 | Z22: =ROUND((X22-Y22)/30,0) -> 8
A23: 21 | B23: Tin học ứng dụng | C23: =1230+48 -> 1278 | D23: 2025 | E23: =ROUND(C23*100/D23,1) -> 63.1 | F23: =C23*0.4 -> 511.2 | G23: 270 | H23: =ROUND((F23-G23)/30,0) -> 8 | I23: 6/24 chỉ T,hành có 17 mô đun | K23: =1230+48 -> 1278 | L23: =K23+90 -> 1368 | M23: 2025 | N23: =ROUND(L23*100/M23,1) -> 67.6 | O23: =L23*0.4 -> 547.2 | P23: 270 | Q23: 10 | R23: =Q23-'3.1-khoa2018-C1'!H23 -> 4 | T23: =1230+48 -> 1278 | U23: =T23+60 -> 1338 | V23: 2025 | W23: =ROUND(U23*100/V23,1) -> 66.1 | X23: =U23*0.4 -> 535.2 | Y23: 270 | Z23: =ROUND((X23-Y23)/30,0) -> 9
A24: 22 | B24: Thiết kế Web | U24: =T24+60 -> 60 | W24: =ROUND(U24*100/V24,1) -> #DIV/0! | X24: =U24*0.4 -> 24
A25: 23 | B25: Kế toán DN | C25: =930+42 -> 972 | D25: 1860 | E25: =ROUND(C25*100/D25,1) -> 52.3 | F25: =C25*0.4 -> 388.8 | G25: 270 | H25: =ROUND((F25-G25)/30,0) -> 4 | I25: 3/3 | K25: =930+42 -> 972 | L25: =K25+90 -> 1062 | M25: 1860 | N25: =ROUND(L25*100/M25,1) -> 57.1 | O25: =L25*0.4 -> 424.8 | P25: 270 | Q25: 6 | R25: =Q25-'3.1-khoa2018-C1'!H25 -> 4 | T25: =930+42 -> 972 | U25: =T25+60 -> 1032 | V25: 1860 | W25: =ROUND(U25*100/V25,1) -> 55.5 | X25: =U25*0.4 -> 412.8 | Y25: 270 | Z25: =ROUND((X25-Y25)/30,0) -> 5
A26: 24 | B26: Quản trị DN | C26: =960+48 -> 1008 | D26: 1875 | E26: =ROUND(C26*100/D26,1) -> 53.8 | F26: =C26*0.4 -> 403.2 | G26: 270 | H26: =ROUND((F26-G26)/30,0) -> 4 | I26: 5/11 chỉ T,hành có 10 mô đun | K26: =960+48 -> 1008 | L26: =K26+90 -> 1098 | M26: 1875 | N26: =ROUND(L26*100/M26,1) -> 58.6 | O26: =L26*0.4 -> 439.2 | P26: 270 | Q26: 6 | R26: =Q26-'3.1-khoa2018-C1'!H26 -> 3 | T26: =960+48 -> 1008 | U26: =T26+60 -> 1068 | V26: 1875 | W26: =ROUND(U26*100/V26,1) -> 57 | X26: =U26*0.4 -> 427.2 | Y26: 270 | Z26: =ROUND((X26-Y26)/30,0) -> 5
A27: 25 | B27: Tài chính DN | U27: =T27+60 -> 60 | W27: =ROUND(U27*100/V27,1) -> #DIV/0! | X27: =U27*0.4 -> 24
A28: 26 | B28: Tiếng Anh | C28: =990+48 -> 1038 | D28: 1905 | E28: =ROUND(C28*100/D28,1) -> 54.5 | F28: =C28*0.4 -> 415.2 | G28: 270 | H28: =ROUND((F28-G28)/30,0) -> 5 | I28: 4/9 | K28: =990+48 -> 1038 | L28: =K28+90 -> 1128 | M28: 1905 | N28: =ROUND(L28*100/M28,1) -> 59.2 | O28: =L28*0.4 -> 451.2 | P28: 270 | Q28: 6 | R28: =Q28-'3.1-khoa2018-C1'!H28 -> 3 | T28: =990+48 -> 1038 | U28: =T28+60 -> 1098 | V28: 1905 | W28: =ROUND(U28*100/V28,1) -> 57.6 | X28: =U28*0.4 -> 439.2 | Y28: 270 | Z28: =ROUND((X28-Y28)/30,0) -> 6
A29: 27 | B29: Công nghệ may | C29: 1250 | D29: 2010 | E29: =ROUND(C29*100/D29,1) -> 62.2 | F29: =C29*0.4 -> 500 | G29: 270 | H29: =ROUND((F29-G29)/30,0) -> 8 | I29: 3/4 | K29: 1250 | L29: =K29+90 -> 1340 | M29: 2010 | N29: =ROUND(L29*100/M29,1) -> 66.7 | O29: =L29*0.4 -> 536 | P29: 270 | Q29: 9 | R29: =Q29-'3.1-khoa2018-C1'!H29 -> 3 | T29: 1250 | U29: =T29+60 -> 1310 | V29: 2010 | W29: =ROUND(U29*100/V29,1) -> 65.2 | X29: =U29*0.4 -> 524 | Y29: 270 | Z29: =ROUND((X29-Y29)/30,0) -> 8
A30: TỔNG CỘNG | C30: 14/23 NGÀNH ĐẠT 60% | L30: 19/23 NGÀNH ĐẠT 60% | T30: 14/23 NGÀNH ĐẠT 60%
B33: Thống kê chương trình cao đẳng
B34: Tổng số % đạt tỷ lệ 60% của toàn khóa: | F34: 0.6086
B35: Tổng số % đạt tỷ lệ 60% trừ môn học chung: | F35: 0.913
B37: TỔNG SỐ CTDT (CĐ+TC) ĐẠT 60% TOÀN KHÓA: | H37: 0.6818
B38: TỔNG SỐ CTDT (CĐ+TC) ĐẠT 60% TRỪ PHẦN CHUNG | H38: 0.9545

Sheet 3.1-khoa2018-C1
A1: BẢNG THỐNG KÊ TỔNG ĐẠT 60% THỰC HÀNH TOÀN CHƯƠNG TRÌNH VÀ 40% THỰC HÀNH HỌC TẠI DOANH NGHIỆP TRÌNH ĐỘ CAO ĐẲNG - KHÓA 2018 | K1: TRÌNH ĐỘ TRUNG CẤP
A2: TT | B2: Tên ngành | C2: Số giờ tổng của CTĐT | D2: Số giờ TH của CTĐT | E2: Tỷ lệ % TH/Tổng số giờ của CTĐT | F2: Số giờ TH 40% học tại DN | G2: Số giờ TTTN tại DN | H2: Số tín chỉ TH tối thiểu học tại DN còn lại | I2: Số môn TH/ số tín chỉ TH của HK4 (trừ TTTN)
A3: 1 | B3: Kỹ thuật xây dựng | C3: 1395 | D3: =780+38 -> 818 | E3: =ROUND(D3*100/C3,1) -> 58.6 | F3: =D3*0.4 -> 327.2 | G3: 270 | H3: 2 | I3: 5/8 | L3: XD | M3: =645+20+165+12 -> 842 | N3: =390+1050 -> 1440 | O3: =ROUND(M3*100/N3,1) -> 58.5 | P3: =M3*0.4 -> 336.8 | Q3: 270 | R3: =ROUND((P3-Q3)/30,0) -> 2 | S3: 5/6 | U3: =645+20 -> 665 | V3: 1050 | W3: =ROUND(U3*100/V3,1) -> 63.3 | X3: =U3*0.4 -> 266 | Y3: 270 | Z3: =ROUND((X3-Y3)/30,0) -> 0
A4: 2 | B4: Cơ điện tử | C4: 1515 | D4: =1020+30 -> 1050 | E4: =ROUND(D4*100/C4,1) -> 69.3 | F4: =D4*0.4 -> 420 | G4: 270 | H4: =(F4-G4)/30 -> 5 | I4: 5/10 | L4: CĐT | M4: =795+16+165+12 -> 988 | N4: =390+1125 -> 1515 | O4: =ROUND(M4*100/N4,1) -> 65.2 | P4: =M4*0.4 -> 395.2 | Q4: 270 | R4: =ROUND((P4-Q4)/30,0) -> 4 | S4: 5/8 | U4: =795+16 -> 811 | V4: 1125 | W4: =ROUND(U4*100/V4,1) -> 72.1 | X4: =U4*0.4 -> 324.4 | Y4: 270 | Z4: =ROUND((X4-Y4)/30,0) -> 2
A5: 3 | B5: CNKT Điện Điện tử | C5: 1515 | D5: =1020+30 -> 1050 | E5: =ROUND(D5*100/C5,1) -> 69.3 | F5: =D5*0.4 -> 420 | G5: 270 | H5: =(F5-G5)/30 -> 5 | I5: 5/10 | L5: CNKT Đ-ĐT | M5: =165+12+735+18 -> 930 | N5: =1095+390 -> 1485 | O5: =ROUND(M5*100/N5,1) -> 62.6 | P5: =M5*0.4 -> 372 | Q5: 270 | R5: =ROUND((P5-Q5)/30,0) -> 3 | S5: 4/7 | U5: 735 | V5: 1095 | W5: =ROUND(U5*100/V5,1) -> 67.1 | X5: =U5*0.4 -> 294 | Y5: 271 | Z5: =ROUND((X5-Y5)/30,0) -> 1
A6: 4 | B6: CNKT Điều khiển tự động hóa | C6: 1515 | D6: =1020+30 -> 1050 | E6: =ROUND(D6*100/C6,1) -> 69.3 | F6: =D6*0.4 -> 420 | G6: 270 | H6: =(F6-G6)/30 -> 5 | I6: 5/10 | L6: CNKT ĐKTĐH
A7: 5 | B7: Điện công nghiệp | C7: 1515 | D7: =1020+30 -> 1050 | E7: =ROUND(D7*100/C7,1) -> 69.3 | F7: =D7*0.4 -> 420 | G7: 270 | H7: =(F7-G7)/30 -> 5 | I7: 5/10 | L7: ĐCN | M7: =165+12+795+16 -> 988 | N7: =390+1125 -> 1515 | O7: =ROUND(M7*100/N7,1) -> 65.2 | P7: =M7*0.4 -> 395.2 | Q7: 270 | R7: =ROUND((P7-Q7)/30,0) -> 4 | S7: 5/8 | U7: 811 | V7: 1125 | W7: =ROUND(U7*100/V7,1) -> 72.1 | X7: =U7*0.4 -> 324.4 | Y7: 273 | Z7: =ROUND((X7-Y7)/30,0) -> 2
A8: 6 | B8: CNKT Nhiệt | C8: 1455 | D8: =932 -> 932 | E8: =ROUND(D8*100/C8,1) -> 64.1 | F8: =D8*0.4 -> 372.8 | G8: 270 | H8: 4 | I8: 2/6 | L8: CNKT NHIỆT
A9: 7 | B9: KTML và ĐHKK | C9: 1500 | D9: =990+30 -> 1020 | E9: =ROUND(D9*100/C9,1) -> 68 | F9: =D9*0.4 -> 408 | G9: 270 | H9: 5 | I9: 3/9 | L9: KTMLĐHKK | M9: =165+12+675+22 -> 874 | N9: =390+1065 -> 1455 | O9: =ROUND(M9*100/N9,1) -> 60.1 | P9: =M9*0.4 -> 349.6 | Q9: 270 | R9: =ROUND((P9-Q9)/30,0) -> 3 | S9: 2/5 | U9: =675+22 -> 697 | V9: 1065 | W9: =ROUND(U9*100/V9,1) -> 65.4 | X9: =U9*0.4 -> 278.8 | Y9: 270 | Z9: =ROUND((X9-Y9)/30,0) -> 0
A10: 8 | B10: VHSC Thiết bị lạnh | C10: 1500 | D10: =990+30 -> 1020 | E10: =ROUND(D10*100/C10,1) -> 68 | F10: =D10*0.4 -> 408 | G10: 270 | H10: 5 | I10: 3/9 | L10: VHSCTBL | M10: =765+20+165+12 -> 962 | N10: =390+1110 -> 1500 | O10: =ROUND(M10*100/N10,1) -> 64.1 | P10: =M10*0.4 -> 384.8 | Q10: 270 | R10: =ROUND((P10-Q10)/30,0) -> 4 | S10: 3/6 | U10: =765+20 -> 785 | V10: 1110 | W10: =ROUND(U10*100/V10,1) -> 70.7 | X10: =U10*0.4 -> 314 | Y10: 270 | Z10: =ROUND((X10-Y10)/30,0) -> 1
A11: 9 | B11: CNKT Cơ khí | C11: 1500 | D11: =990+28 -> 1018 | E11: =ROUND(D11*100/C11,1) -> 67.9 | F11: =D11*0.4 -> 407.2 | G11: 270 | H11: 5 | I11: 4/8 | L11: CNKT CƠ KHÍ | M11: =705+16+165+12 -> 898 | N11: =390+1080 -> 1470 | O11: =ROUND(M11*100/N11,1) -> 61.1 | P11: =M11*0.4 -> 359.2 | Q11: 270 | R11: =ROUND((P11-Q11)/30,0) -> 3 | S11: 4/8
A12: 10 | B12: Cơ khí chế tạo | L12: CKCT | M12: =165+12+765+16 -> 958 | N12: =1110+390 -> 1500 | O12: =ROUND(M12*100/N12,1) -> 63.9 | P12: =M12*0.4 -> 383.2 | Q12: 270 | R12: =ROUND((P12-Q12)/30,0) -> 4 | S12: 4/8 | U12: =765+16 -> 781 | V12: 1110 | W12: =ROUND(U12*100/V12,1) -> 70.4 | X12: =U12*0.4 -> 312.4 | Y12: 270 | Z12: =ROUND((X12-Y12)/30,0) -> 1
A13: 11 | B13: Công nghệ Chế tạo | C13: 1530 | D13: =1050+26 -> 1076 | E13: =ROUND(D13*100/C13,1) -> 70.3 | F13: =D13*0.4 -> 430.4 | G13: 270 | H13: 6 | I13: 4/9 | L13: CTM
A14: 12 | B14: Cắt gọt kim loại | C14: 1530 | D14: =1050+26 -> 1076 | E14: =ROUND(D14*100/C14,1) -> 70.3 | F14: =D14*0.4 -> 430.4 | G14: 270 | H14: 6 | I14: 4/9 | L14: CGKL
A15: 13 | B15: BTHT Thiết bị công nghiệp | C15: 1500 | D15: =975+32 -> 1007 | E15: =ROUND(D15*100/C15,1) -> 67.1 | F15: =D15*0.4 -> 402.8 | G15: 270 | H15: 5 | I15: 4/10 | L15: BTHTTBCN
A16: 14 | B16: Công nghệ ô tô | C16: 1500 | D16: =990+26 -> 1016 | E16: =ROUND(D16*100/C16,1) -> 67.7 | F16: =D16*0.4 -> 406.4 | G16: 270 | H16: 5 | I16: 4/7 | L16: CNÔ | M16: =675+16+165+12 -> 868 | N16: =390+1065 -> 1455 | O16: =ROUND(M16*100/N16,1) -> 59.7 | P16: =M16*0.4 -> 347.2 | Q16: 270 | R16: =ROUND((P16-Q16)/30,0) -> 3 | S16: 4/8 | U16: =675+16 -> 691 | V16: 1065 | W16: =ROUND(U16*100/V16,1) -> 64.9 | X16: =U16*0.4 -> 276.4 | Y16: 270 | Z16: =ROUND((X16-Y16)/30,0) -> 0
A17: 15 | B17: Thương mại điện tử | C17: 1530 | D17: =1050+34 -> 1084 | E17: =ROUND(D17*100/C17,1) -> 70.8 | F17: =D17*0.4 -> 433.6 | G17: 270 | H17: 6 | I17: 5 mô đun/7 tín chỉ thực hành | L17: TMĐT
A18: 16 | B18: Quản trị mạng máy tính | C18: 1515 | D18: =1020+38 -> 1058 | E18: =ROUND(D18*100/C18,1) -> 69.8 | F18: =D18*0.4 -> 423.2 | G18: 270 | H18: 6 | I18: 6 mô đun/6 tín chỉ thực hành | L18: QTMMT | M18: =165+12+825+30 -> 1032 | N18: =1140+390 -> 1530 | O18: =ROUND(M18*100/N18,1) -> 67.5 | P18: =M18*0.4 -> 412.8 | Q18: 270 | R18: =ROUND((P18-Q18)/30,0) -> 5 | S18: 12/17 chỉ T,hành có 14 mô đun | U18: =825+30 -> 855 | V18: 1140 | W18: =ROUND(U18*100/V18,1) -> 75 | X18: =U18*0.4 -> 342 | Y18: 270 | Z18: =ROUND((X18-Y18)/30,0) -> 2
A19: 17 | B19: CNKT máy tính | C19: 1515 | D19: =1020+38 -> 1058 | E19: =ROUND(D19*100/C19,1) -> 69.8 | F19: =D19*0.4 -> 423.2 | G19: 270 | H19: 6 | I19: 6 mô đun/6 tín chỉ thực hành | L19: CNKTMT | M19: =825+30+165+12 -> 1032 | N19: =390+1140 -> 1530 | O19: =ROUND(M19*100/N19,1) -> 67.5 | P19: =M19*0.4 -> 412.8 | Q19: 270 | R19: =ROUND((P19-Q19)/30,0) -> 5 | S19: 11/16 chỉ T,hành có 14 mô đun | U19: =825+30 -> 855 | V19: 1140 | W19: =ROUND(U19*100/V19,1) -> 75 | X19: =U19*0.4 -> 342 | Y19: 270 | Z19: =ROUND((X19-Y19)/30,0) -> 2
A20: 18 | B20: Thiết kế đồ họa | C20: 1545 | D20: =1080+40 -> 1120 | E20: =ROUND(D20*100/C20,1) -> 72.5 | F20: =D20*0.4 -> 448 | G20: 270 | H20: 6 | I20: 5 mô đun/6 tín chỉ thực hành | L20: TKĐH | M20: =165+12+825+30 -> 1032 | N20: =390+1140 -> 1530 | O20: =ROUND(M20*100/N20,1) -> 67.5 | P20: =M20*0.4 -> 412.8 | Q20: 270 | R20: =ROUND((P20-Q20)/30,0) -> 5 | S20: 6/17 chỉ T,hành có 14 mô đun | U20: =825+30 -> 855 | V20: 1140 | W20: =ROUND(U20*100/V20,1) -> 75 | X20: =U20*0.4 -> 342 | Y20: 270 | Z20: =ROUND((X20-Y20)/30,0) -> 2
A21: 19 | B21: An ninh mạng | L21: ANM | M21: =165+12+825+30 -> 1032 | N21: =390+1140 -> 1530 | O21: =ROUND(M21*100/N21,1) -> 67.5 | P21: =M21*0.4 -> 412.8 | Q21: 270 | R21: =ROUND((P21-Q21)/30,0) -> 5 | S21: 11/17 chỉ T,hành có 13 mô đun | U21: =825+30 -> 855 | V21: 1140 | W21: =ROUND(U21*100/V21,1) -> 75 | X21: =U21*0.4 -> 342 | Y21: 270 | Z21: =ROUND((X21-Y21)/30,0) -> 2
A22: 20 | B22: Lập trình máy tính | C22: 1530 | D22: =1050+34 -> 1084 | E22: =ROUND(D22*100/C22,1) -> 70.8 | F22: =D22*0.4 -> 433.6 | G22: 270 | H22: 6 | I22: 5 mô đun/6 tín chỉ thực hành | L22: LTMT | M22: =165+12+795+22 -> 994 | N22: =1125+390 -> 1515 | O22: =ROUND(M22*100/N22,1) -> 65.6 | P22: =M22*0.4 -> 397.6 | Q22: 270 | R22: =ROUND((P22-Q22)/30,0) -> 4 | S22: 9/16 chỉ T,hành có 10 mô đun
A23: 21 | B23: Tin học ứng dụng | C23: 1545 | D23: =1080+34 -> 1114 | E23: =ROUND(D23*100/C23,1) -> 72.1 | F23: =D23*0.4 -> 445.6 | G23: 270 | H23: 6 | I23: 5 mô đun/6 tín chỉ thực hành | L23: THUD | M23: =165+12+210+10+555+14+60+2 -> 1028 | N23: =390+315+735+90 -> 1530 | O23: =ROUND(M23*100/N23,1) -> 67.2 | P23: =M23*0.4 -> 411.2 | Q23: 270 | R23: =ROUND((P23-Q23)/30,0) -> 5 | S23: 8/17 chỉ T,hành có 11 mô đun
A24: 22 | B24: Thiết kế Web | L24: TKW | M24: =165+12+795+24 -> 996 | N24: =390+1125 -> 1515 | O24: =ROUND(M24*100/N24,1) -> 65.7 | P24: =M24*0.4 -> 398.4 | Q24: 270 | R24: =ROUND((P24-Q24)/30,0) -> 4 | S24: 9/16 chỉ T,hành có 11 mô đun
A25: 23 | B25: Kế toán DN | C25: 1380 | D25: =780+28 -> 808 | E25: =ROUND(D25*100/C25,1) -> 58.6 | F25: =D25*0.4 -> 323.2 | G25: 270 | H25: 2 | I25: 3/8 | L25: KTD | M25: =165+12+630+22 -> 829 | N25: =390+1050 -> 1440 | O25: =ROUND(M25*100/N25,1) -> 57.6 | P25: =M25*0.4 -> 331.6 | Q25: 270 | R25: =ROUND((P25-Q25)/30,0) -> 2 | S25: 1/2 | U25: =630+22 -> 652 | V25: 1050 | W25: =ROUND(U25*100/V25,1) -> 62.1 | X25: =U25*0.4 -> 260.8 | Y25: 270 | Z25: =ROUND((X25-Y25)/30,0) -> 0
A26: 24 | B26: Quản trị DN | C26: 1395 | D26: =810+34 -> 844 | E26: =ROUND(D26*100/C26,1) -> 60.5 | F26: =D26*0.4 -> 337.6 | G26: 270 | H26: 3 | I26: 5/8 | L26: QTD | M26: =720+20+165+12 -> 917 | N26: =390+1080 -> 1470 | O26: =ROUND(M26*100/N26,1) -> 62.4 | P26: =M26*0.4 -> 366.8 | Q26: 270 | R26: =ROUND((P26-Q26)/30,0) -> 3 | S26: 3/4
A27: 25 | B27: Tài chính DN | L27: TCD | M27: =645+24+165+12 -> 846 | N27: =390+1050 -> 1440 | O27: =ROUND(M27*100/N27,1) -> 58.8 | P27: =M27*0.4 -> 338.4 | Q27: 270 | R27: =ROUND((P27-Q27)/30,0) -> 2 | S27: 1/3 | U27: =645+24 -> 669 | V27: 1050 | W27: =ROUND(U27*100/V27,1) -> 63.7 | X27: =U27*0.4 -> 267.6 | Y27: 270 | Z27: =ROUND((X27-Y27)/30,0) -> 0
A28: 26 | B28: Tiếng Anh | C28: 1455 | D28: =840+36 -> 876 | E28: =ROUND(D28*100/C28,1) -> 60.2 | F28: =D28*0.4 -> 350.4 | G28: 270 | H28: 3 | I28: 4/8 | L28: TA | M28: =165+12+615+22 -> 814 | N28: =1035+390 -> 1425 | O28: =ROUND(M28*100/N28,1) -> 57.1 | P28: =M28*0.4 -> 325.6 | Q28: 270 | R28: =ROUND((P28-Q28)/30,0) -> 2 | S28: 4/6 | U28: =615+22 -> 637 | V28: 1035 | W28: =ROUND(U28*100/V28,1) -> 61.5 | X28: =U28*0.4 -> 254.8 | Y28: 270 | Z28: =ROUND((X28-Y28)/30,0) -> -1
A29: 27 | B29: Công nghệ may | C29: 1530 | D29: =1050+36 -> 1086 | E29: =ROUND(D29*100/C29,1) -> 71 | F29: =D29*0.4 -> 434.4 | G29: 270 | H29: 6 | I29: 2/8 | L29: CNM | M29: =165+12+825+20 -> 1022 | N29: =1140+390 -> 1530 | O29: =ROUND(M29*100/N29,1) -> 66.8 | P29: =M29*0.4 -> 408.8 | Q29: 270 | R29: =ROUND((P29-Q29)/30,0) -> 5 | S29: 2/3 | U29: =825+20 -> 845 | V29: 1140 | W29: =ROUND(U29*100/V29,1) -> 74.1 | X29: =U29*0.4 -> 338 | Y29: 270 | Z29: =ROUND((X29-Y29)/30,0) -> 2
A30: TỔNG CỘNG | C30: 21/23 ngành đạt 60% | H30: =COUNT(H3:H29) -> 23 | L30: TỔNG CỘNG: | M30: 16/21 NGÀNH ĐẠT 60% | U30: TỔNG CỘNG: | W30: 21/21 NGÀNH ĐẠT 60%
L32: CNÔ(T2) | M32: =795+26 -> 821 | N32: 1275 | O32: =ROUND(M32*100/N32,1) -> 64.4 | P32: =M32*0.4 -> 328.4 | Q32: 270 | R32: =ROUND((P32-Q32)/30,0) -> 2
B33: Thống kê chương trình cao đẳng | L33: ĐCN (T5+6) | M33: =855+28 -> 883 | N33: 1305 | O33: =ROUND(M33*100/N33,1) -> 67.7 | P33: =M33*0.4 -> 353.2 | Q33: 270 | R33: =ROUND((P33-Q33)/30,0) -> 3
B34: Tổng số % đạt tỷ lệ 60% của toàn khóa: | L34: ĐCN (T7) | M34: =165+12+795+16 -> 988 | N34: =390+1125 -> 1515 | O34: =ROUND(M34*100/N34,1) -> 65.2 | P34: =M34*0.4 -> 395.2 | Q34: 270 | R34: =ROUND((P34-Q34)/30,0) -> 4
B35: Tổng số % đạt tỷ lệ 60% trừ môn học chung: | L35: TỔNG CỘNG: | M35: 3/3 NGÀNH ĐẠT 60% | U35: TỔNG CỘNG: | W35: 3/3 NGÀNH ĐẠT 60%
B37: TỔNG SỐ CTDT (CĐ+TC) ĐẠT 60% TOÀN KHÓA: | L37: Thống kê chương trình trung cấp
B38: TỔNG SỐ CTDT (CĐ+TC) ĐẠT 60% TRỪ PHẦN CHUNG | L38: Tổng số % số chương trình T4 đạt tỷ lệ 60% toàn khóa: | Q38: 0.7619 | S38: Tổng số % số CTDT T4 đạt tỷ lệ 60% trừ văn hóa: | Y38: 1
L39: Tổng số % số chương trình T4+T2 đạt tỷ lệ 60% toàn khóa: | Q39: 0.7916 | S39: Tổng số % số CTDT T4+T2 đạt tỷ lệ 60% trừ văn hóa: | Y39: 1
L41: Công nghệ Ô tô | M41: 821 | N41: 1275 | O41: =ROUND(M41*100/N41,1) -> 64.4 | P41: =M41*0.4 -> 328.4 | Q41: 270 | R41: =ROUND((P41-Q41)/30,0) -> 2 | U41: 698 | V41: 960 | W41: =ROUND(U41*100/V41,1) -> 72.7 | X41: =U41*0.4 -> 279.2 | Y41: 270 | Z41: =ROUND((X41-Y41)/30,0) -> 0

Sheet 3.1-khoa2018-C2
A1: BẢNG THỐNG KÊ TỔNG ĐẠT 60% THỰC HÀNH TOÀN CHƯƠNG TRÌNH VÀ 40% THỰC HÀNH HỌC TẠI DOANH NGHIỆP TRÌNH ĐỘ CAO ĐẲNG (C2) - KHÓA 2018
A2: TT | B2: Tên ngành | C2: Số giờ tổng của CTĐT | D2: Số giờ TH của CTĐT | E2: Tỷ lệ % TH/Tổng số giờ của CTĐT | F2: Số giờ TH 40% học tại DN | G2: Số giờ TTTN tại DN | H2: Số tín chỉ TH tối thiểu học tại DN còn lại | J2: Số giờ tổng của CTĐT | K2: Số giờ TH của CTĐT | L2: Tỷ lệ % TH/Tổng số giờ của CTĐT | M2: Số giờ TH 40% học tại DN | N2: Số giờ TTTN tại DN | O2: Số tín chỉ TH tối thiểu học tại DN còn lại
A3: 1 | B3: CNKT Điện Điện tử | C3: 930 | D3: 521 | E3: =ROUND(D3*100/C3,1) -> 56 | F3: =D3*0.4 -> 208.4 | G3: 270 | H3: =ROUND((F3-G3)/30,0) -> -2 | J3: 750 | K3: 483 | L3: =ROUND(K3*100/J3,1) -> 64.4 | M3: =K3*0.4 -> 193.2 | O3: 7
A4: 2 | B4: CNKT Nhiệt | C4: 915 | D4: 491 | E4: =ROUND(D4*100/C4,1) -> 53.7 | F4: =D4*0.4 -> 196.4 | G4: 270 | H4: =ROUND((F4-G4)/30,0) -> -2 | J4: 735 | K4: 453 | L4: =ROUND(K4*100/J4,1) -> 61.6 | M4: =K4*0.4 -> 181.2 | O4: 7
A5: 3 | B5: CNKT Cơ khí | C5: 930 | D5: 506 | E5: =ROUND(D5*100/C5,1) -> 54.4 | F5: =D5*0.4 -> 202.4 | G5: 270 | H5: =ROUND((F5-G5)/30,0) -> -2 | J5: 750 | K5: 468 | L5: =ROUND(K5*100/J5,1) -> 62.4 | M5: =K5*0.4 -> 187.2 | O5: 7
A6: 4 | B6: Công nghệ ô tô | C6: 915 | D6: 491 | E6: =ROUND(D6*100/C6,1) -> 53.7 | F6: =D6*0.4 -> 196.4 | G6: 270 | H6: =ROUND((F6-G6)/30,0) -> -2 | J6: 735 | K6: 453 | L6: =ROUND(K6*100/J6,1) -> 61.6 | M6: =K6*0.4 -> 181.2 | O6: 7
A7: 5 | B7: Quản trị mạng máy tính | C7: 1035 | D7: 737 | E7: =ROUND(D7*100/C7,1) -> 71.2 | F7: =D7*0.4 -> 294.8 | G7: 270 | H7: =ROUND((F7-G7)/30,0) -> 1 | J7: 855 | K7: 699 | L7: =ROUND(K7*100/J7,1) -> 81.8 | M7: =K7*0.4 -> 279.6 | O7: 10
A8: 6 | B8: Kế toán DN | C8: 915 | D8: 487 | E8: =ROUND(D8*100/C8,1) -> 53.2 | F8: =D8*0.4 -> 194.8 | G8: 270 | H8: =ROUND((F8-G8)/30,0) -> -3 | J8: 735 | K8: 449 | L8: =ROUND(K8*100/J8,1) -> 61.1 | M8: =K8*0.4 -> 179.6 | O8: 6
A9: 7 | B9: Công nghệ may | C9: 975 | D9: 611 | E9: =ROUND(D9*100/C9,1) -> 62.7 | F9: =D9*0.4 -> 244.4 | G9: 270 | H9: =ROUND((F9-G9)/30,0) -> -1 | J9: 795 | K9: 573 | L9: =ROUND(K9*100/J9,1) -> 72.1 | M9: =K9*0.4 -> 229.2 | O9: 8
A10: TỔNG CỘNG | C10: 21/23 ngành đạt 60% | H10: =COUNT(H3:H9) -> 7 | J10: 7/7 ngành đạt 60%
B13: Thống kê chương trình cao đẳng
B14: Tổng số % đạt tỷ lệ 60% của toàn khóa:
B15: Tổng số % đạt tỷ lệ 60% trừ môn học chung:
B17: TỔNG SỐ CTDT (CĐ+TC) ĐẠT 60% TOÀN KHÓA:
B18: TỔNG SỐ CTDT (CĐ+TC) ĐẠT 60% TRỪ PHẦN CHUNG

Sheet TK-18C2
A1: BẢNG THỐNG KÊ TỔNG ĐẠT 60% THỰC HÀNH TOÀN CHƯƠNG TRÌNH VÀ 40% THỰC HÀNH HỌC TẠI DOANH NGHIỆP TRÌNH ĐỘ CAO ĐẲNG (C2) - KHÓA 2018
A2: TT | B2: Tên ngành | C2: Số giờ tổng của CTĐT | D2: Số giờ TH của CTĐT | E2: Tỷ lệ % TH/Tổng số giờ của CTĐT | F2: Số giờ TH 40% học tại DN | G2: Số tín chỉ TH học tại DN | I2: Số giờ tổng của CTĐT | J2: Số giờ TH của CTĐT | K2: Số giờ TH của CTĐT | L2: Tỷ lệ % TH/Tổng số giờ của CTĐT | M2: Số giờ TH 40% học tại DN | N2: Số tín chỉ TH học tại DN | O2: Số TC học tại DN thay đổi bổ sung kiến tập
A3: 1 | B3: CNKT Điện Điện tử | C3: 930 | D3: 521 | E3: =ROUND(D3*100/C3,1) -> 56 | F3: =D3*0.4 -> 208.4 | G3: 7 | I3: 930 | J3: 521 | K3: =J3+90 -> 611 | L3: =ROUND(K3*100/I3,1) -> 65.7 | M3: =K3*0.4 -> 244.4 | N3: 9 | O3: =N3-'3.1-khoa2018-C2'!O3 -> 2
A4: 2 | B4: CNKT Nhiệt | C4: 915 | D4: 491 | E4: =ROUND(D4*100/C4,1) -> 53.7 | F4: =D4*0.4 -> 196.4 | G4: 7 | I4: 915 | J4: 491 | K4: =J4+90 -> 581 | L4: =ROUND(K4*100/I4,1) -> 63.5 | M4: =K4*0.4 -> 232.4 | N4: =ROUND((K4*0.4)/30,0) -> 8 | O4: =N4-'3.1-khoa2018-C2'!O4 -> 1
A5: 3 | B5: CNKT Cơ khí | C5: 930 | D5: 506 | E5: =ROUND(D5*100/C5,1) -> 54.4 | F5: =D5*0.4 -> 202.4 | G5: 7 | I5: 930 | J5: 506 | K5: =J5+90 -> 596 | L5: =ROUND(K5*100/I5,1) -> 64.1 | M5: =K5*0.4 -> 238.4 | N5: =ROUND((K5*0.4)/30,0) -> 8 | O5: =N5-'3.1-khoa2018-C2'!O5 -> 1
A6: 4 | B6: Công nghệ ô tô | C6: 915 | D6: 491 | E6: =ROUND(D6*100/C6,1) -> 53.7 | F6: =D6*0.4 -> 196.4 | G6: 7 | I6: 915 | J6: 491 | K6: =J6+90 -> 581 | L6: =ROUND(K6*100/I6,1) -> 63.5 | M6: =K6*0.4 -> 232.4 | N6: =ROUND((K6*0.4)/30,0) -> 8 | O6: =N6-'3.1-khoa2018-C2'!O6 -> 1
A7: 5 | B7: Quản trị mạng máy tính | C7: 1035 | D7: 737 | E7: =ROUND(D7*100/C7,1) -> 71.2 | F7: =D7*0.4 -> 294.8 | G7: 10 | I7: 1035 | J7: 737 | K7: =J7+90 -> 827 | L7: =ROUND(K7*100/I7,1) -> 79.9 | M7: =K7*0.4 -> 330.8 | N7: =ROUND((K7*0.4)/30,0) -> 11 | O7: =N7-'3.1-khoa2018-C2'!O7 -> 1
A8: 6 | B8: Kế toán DN | C8: 915 | D8: 487 | E8: =ROUND(D8*100/C8,1) -> 53.2 | F8: =D8*0.4 -> 194.8 | G8: 7 | I8: 915 | J8: 487 | K8: =J8+90 -> 577 | L8: =ROUND(K8*100/I8,1) -> 63.1 | M8: =K8*0.4 -> 230.8 | N8: =ROUND((K8*0.4)/30,0) -> 8 | O8: =N8-'3.1-khoa2018-C2'!O8 -> 2
A9: 7 | B9: Công nghệ may | C9: 975 | D9: 611 | E9: =ROUND(D9*100/C9,1) -> 62.7 | F9: =D9*0.4 -> 244.4 | G9: 9 | I9: 975 | J9: 611 | K9: =J9+90 -> 701 | L9: =ROUND(K9*100/I9,1) -> 71.9 | M9: =K9*0.4 -> 280.4 | N9: 10 | O9: =N9-'3.1-khoa2018-C2'!O9 -> 2
A10: TỔNG CỘNG | C10: 2/7 ngành đạt 60% | I10: 7/7 ngành đạt 60%
B13: Thống kê chương trình cao đẳng
B14: Tổng số % đạt tỷ lệ 60% của toàn khóa:
B15: Tổng số % đạt tỷ lệ 60% trừ môn học chung:
B17: TỔNG SỐ CTDT (CĐ+TC) ĐẠT 60% TOÀN KHÓA:
B18: TỔNG SỐ CTDT (CĐ+TC) ĐẠT 60% TRỪ PHẦN CHUNG

Sheet TK-18T4
A1: THỐNG KÊ TỶ LỆ % THỰC HÀNH TOÀN KHÓA TRÌNH ĐỘ TRUNG CẤP - KHÓA 2018
A2: TT | B2: Tên ngành | C2: Số giờ TH | D2: Số giờ tổng | E2: Tỷ lệ % TH | F2: Số giờ 40% | G2: Số giờ TTTN | H2: Số TC học tại DN | I2: Số môn TT/ số tín chỉ của HK4 | K2: Số giờ TH | L2: Số giờ tổng | M2: Số giờ TH | N2: Tỷ lệ % TH | O2: Số giờ 40% | P2: Số giờ TTTN | Q2: Số TC học tại DN | R2: Số TC học tại DN thay đổi bổ sung kiến tập
A3: 1 | B3: Kỹ thuật xây dựng | C3: =645+20+165+12 -> 842 | D3: =390+1050 -> 1440 | E3: =ROUND(C3*100/D3,1) -> 58.5 | F3: =C3*0.4 -> 336.8 | G3: 270 | H3: =ROUND((F3-G3)/30,0) -> 2 | I3: 5/6 | K3: =645+20+165+12 -> 842 | L3: =390+1050 -> 1440 | M3: =K3+90 -> 932 | N3: =ROUND(M3*100/L3,1) -> 64.7 | O3: =M3*0.4 -> 372.8 | P3: 270 | Q3: 4 | R3: =Q3-'3.1-khoa2018-T4'!H3 -> 4
A4: 2 | B4: Cơ điện tử | C4: =795+16+165+12 -> 988 | D4: =390+1125 -> 1515 | E4: =ROUND(C4*100/D4,1) -> 65.2 | F4: =C4*0.4 -> 395.2 | G4: 270 | H4: =ROUND((F4-G4)/30,0) -> 4 | I4: 5/8 | K4: =795+16+165+12 -> 988 | L4: =390+1125 -> 1515 | M4: =K4+90 -> 1078 | N4: =ROUND(M4*100/L4,1) -> 71.2 | O4: =M4*0.4 -> 431.2 | P4: 270 | Q4: 6 | R4: =Q4-'3.1-khoa2018-T4'!H4 -> 4
A5: 3 | B5: CNKT Điện Điện tử | C5: =165+12+735+18 -> 930 | D5: =1095+390 -> 1485 | E5: =ROUND(C5*100/D5,1) -> 62.6 | F5: =C5*0.4 -> 372 | G5: 270 | H5: =ROUND((F5-G5)/30,0) -> 3 | I5: 4/7 | K5: =165+12+735+18 -> 930 | L5: =1095+390 -> 1485 | M5: =K5+90 -> 1020 | N5: =ROUND(M5*100/L5,1) -> 68.7 | O5: =M5*0.4 -> 408 | P5: 270 | Q5: 5 | R5: =Q5-'3.1-khoa2018-T4'!H5 -> 4
A6: 4 | B6: CNKT Điều khiển tự động hóa
A7: 5 | B7: Điện công nghiệp | C7: =165+12+795+16 -> 988 | D7: =390+1125 -> 1515 | E7: =ROUND(C7*100/D7,1) -> 65.2 | F7: =C7*0.4 -> 395.2 | G7: 270 | H7: =ROUND((F7-G7)/30,0) -> 4 | I7: 5/8 | K7: =165+12+795+16 -> 988 | L7: =390+1125 -> 1515 | M7: =K7+90 -> 1078 | N7: =ROUND(M7*100/L7,1) -> 71.2 | O7: =M7*0.4 -> 431.2 | P7: 270 | Q7: 6 | R7: =Q7-'3.1-khoa2018-T4'!H7 -> 4
A8: 6 | B8: CNKT Nhiệt
A9: 7 | B9: KTML và ĐHKK | C9: =165+12+675+22 -> 874 | D9: =390+1065 -> 1455 | E9: =ROUND(C9*100/D9,1) -> 60.1 | F9: =C9*0.4 -> 349.6 | G9: 270 | H9: =ROUND((F9-G9)/30,0) -> 3 | I9: 2/5 | K9: =165+12+675+22 -> 874 | L9: =390+1065 -> 1455 | M9: =K9+90 -> 964 | N9: =ROUND(M9*100/L9,1) -> 66.3 | O9: =M9*0.4 -> 385.6 | P9: 270 | Q9: 4 | R9: =Q9-'3.1-khoa2018-T4'!H9 -> 4
A10: 8 | B10: VHSC Thiết bị lạnh | C10: =765+20+165+12 -> 962 | D10: =390+1110 -> 1500 | E10: =ROUND(C10*100/D10,1) -> 64.1 | F10: =C10*0.4 -> 384.8 | G10: 270 | H10: =ROUND((F10-G10)/30,0) -> 4 | I10: 3/6 | K10: =765+20+165+12 -> 962 | L10: =390+1110 -> 1500 | M10: =K10+90 -> 1052 | N10: =ROUND(M10*100/L10,1) -> 70.1 | O10: =M10*0.4 -> 420.8 | P10: 270 | Q10: 5 | R10: =Q10-'3.1-khoa2018-T4'!H10 -> 3
A11: 9 | B11: CNKT CƠ KHÍ | C11: =705+16+165+12 -> 898 | D11: =390+1080 -> 1470 | E11: =ROUND(C11*100/D11,1) -> 61.1 | F11: =C11*0.4 -> 359.2 | G11: 270 | H11: =ROUND((F11-G11)/30,0) -> 3 | I11: 4/8 | K11: =705+16+165+12 -> 898 | L11: =390+1080 -> 1470 | M11: =K11+90 -> 988 | N11: =ROUND(M11*100/L11,1) -> 67.2 | O11: =M11*0.4 -> 395.2 | P11: 270 | Q11: 5 | R11: =Q11-'3.1-khoa2018-T4'!H11 -> 4
A12: 10 | B12: Cơ khí chế tạo | C12: =165+12+765+16 -> 958 | D12: =1110+390 -> 1500 | E12: =ROUND(C12*100/D12,1) -> 63.9 | F12: =C12*0.4 -> 383.2 | G12: 270 | H12: =ROUND((F12-G12)/30,0) -> 4 | I12: 4/8 | K12: =165+12+765+16 -> 958 | L12: =1110+390 -> 1500 | M12: =K12+90 -> 1048 | N12: =ROUND(M12*100/L12,1) -> 69.9 | O12: =M12*0.4 -> 419.2 | P12: 270 | Q12: 5 | R12: =Q12-'3.1-khoa2018-T4'!H12 -> 3
A13: 11 | B13: Công nghệ Chế tạo máy
A14: 12 | B14: Cắt gọt kim loại
A15: 13 | B15: BTHT Thiết bị công nghiệp
A16: 14 | B16: Công nghệ ô tô | C16: =675+16+165+12 -> 868 | D16: =390+1065 -> 1455 | E16: =ROUND(C16*100/D16,1) -> 59.7 | F16: =C16*0.4 -> 347.2 | G16: 270 | H16: =ROUND((F16-G16)/30,0) -> 3 | I16: 4/8 | K16: =675+16+165+12 -> 868 | L16: =390+1065 -> 1455 | M16: =K16+90 -> 958 | N16: =ROUND(M16*100/L16,1) -> 65.8 | O16: =M16*0.4 -> 383.2 | P16: 270 | Q16: 4 | R16: =Q16-'3.1-khoa2018-T4'!H16 -> 3
A17: 15 | B17: Thương mại điện tử
A18: 16 | B18: Quản trị mạng máy tính | C18: =165+12+825+30 -> 1032 | D18: =1140+390 -> 1530 | E18: =ROUND(C18*100/D18,1) -> 67.5 | F18: =C18*0.4 -> 412.8 | G18: 270 | H18: =ROUND((F18-G18)/30,0) -> 5 | I18: 12/17 chỉ T,hành có 14 mô đun | K18: =165+12+825+30 -> 1032 | L18: =1140+390 -> 1530 | M18: =K18+90 -> 1122 | N18: =ROUND(M18*100/L18,1) -> 73.3 | O18: =M18*0.4 -> 448.8 | P18: 270 | Q18: 6 | R18: =Q18-'3.1-khoa2018-T4'!H18 -> 3
A19: 17 | B19: CNKT máy tính | C19: =825+30+165+12 -> 1032 | D19: =390+1140 -> 1530 | E19: =ROUND(C19*100/D19,1) -> 67.5 | F19: =C19*0.4 -> 412.8 | G19: 270 | H19: =ROUND((F19-G19)/30,0) -> 5 | I19: 11/16 chỉ T,hành có 14 mô đun | K19: =825+30+165+12 -> 1032 | L19: =390+1140 -> 1530 | M19: =K19+90 -> 1122 | N19: =ROUND(M19*100/L19,1) -> 73.3 | O19: =M19*0.4 -> 448.8 | P19: 270 | Q19: 6 | R19: =Q19-'3.1-khoa2018-T4'!H19 -> 3
A20: 18 | B20: Thiết kế đồ họa | C20: =165+12+825+30 -> 1032 | D20: =390+1140 -> 1530 | E20: =ROUND(C20*100/D20,1) -> 67.5 | F20: =C20*0.4 -> 412.8 | G20: 270 | H20: =ROUND((F20-G20)/30,0) -> 5 | I20: 6/17 chỉ T,hành có 14 mô đun | K20: =165+12+825+30 -> 1032 | L20: =390+1140 -> 1530 | M20: =K20+90 -> 1122 | N20: =ROUND(M20*100/L20,1) -> 73.3 | O20: =M20*0.4 -> 448.8 | P20: 270 | Q20: 6 | R20: =Q20-'3.1-khoa2018-T4'!H20 -> 3
A21: 19 | B21: An ninh mạng | C21: =165+12+825+30 -> 1032 | D21: =390+1140 -> 1530 | E21: =ROUND(C21*100/D21,1) -> 67.5 | F21: =C21*0.4 -> 412.8 | G21: 270 | H21: =ROUND((F21-G21)/30,0) -> 5 | I21: 11/17 chỉ T,hành có 13 mô đun | K21: =165+12+825+30 -> 1032 | L21: =390+1140 -> 1530 | M21: =K21+90 -> 1122 | N21: =ROUND(M21*100/L21,1) -> 73.3 | O21: =M21*0.4 -> 448.8 | P21: 270 | Q21: 6 | R21: =Q21-'3.1-khoa2018-T4'!H21 -> 3
A22: 20 | B22: Lập trình máy tính | C22: =165+12+795+22 -> 994 | D22: =1125+390 -> 1515 | E22: =ROUND(C22*100/D22,1) -> 65.6 | F22: =C22*0.4 -> 397.6 | G22: 270 | H22: =ROUND((F22-G22)/30,0) -> 4 | I22: 9/16 chỉ T,hành có 10 mô đun | K22: =165+12+795+22 -> 994 | L22: =1125+390 -> 1515 | M22: =K22+90 -> 1084 | N22: =ROUND(M22*100/L22,1) -> 71.6 | O22: =M22*0.4 -> 433.6 | P22: 270 | Q22: 6 | R22: =Q22-'3.1-khoa2018-T4'!H22 -> 4
A23: 21 | B23: Tin học ứng dụng | C23: =165+12+210+10+555+14+60+2 -> 1028 | D23: =390+315+735+90 -> 1530 | E23: =ROUND(C23*100/D23,1) -> 67.2 | F23: =C23*0.4 -> 411.2 | G23: 270 | H23: =ROUND((F23-G23)/30,0) -> 5 | I23: 8/17 chỉ T,hành có 11 mô đun | K23: =165+12+210+10+555+14+60+2 -> 1028 | L23: =390+315+735+90 -> 1530 | M23: =K23+90 -> 1118 | N23: =ROUND(M23*100/L23,1) -> 73.1 | O23: =M23*0.4 -> 447.2 | P23: 270 | Q23: 6 | R23: =Q23-'3.1-khoa2018-T4'!H23 -> 3
A24: 22 | B24: Thiết kế Web | C24: =165+12+795+24 -> 996 | D24: =390+1125 -> 1515 | E24: =ROUND(C24*100/D24,1) -> 65.7 | F24: =C24*0.4 -> 398.4 | G24: 270 | H24: =ROUND((F24-G24)/30,0) -> 4 | I24: 9/16 chỉ T,hành có 11 mô đun | K24: =165+12+795+24 -> 996 | L24: =390+1125 -> 1515 | M24: =K24+90 -> 1086 | N24: =ROUND(M24*100/L24,1) -> 71.7 | O24: =M24*0.4 -> 434.4 | P24: 270 | Q24: 6 | R24: =Q24-'3.1-khoa2018-T4'!H24 -> 4
A25: 23 | B25: Kế toán DN | C25: =165+12+630+22 -> 829 | D25: =390+1050 -> 1440 | E25: =ROUND(C25*100/D25,1) -> 57.6 | F25: =C25*0.4 -> 331.6 | G25: 270 | H25: =ROUND((F25-G25)/30,0) -> 2 | I25: 1/2 | K25: =165+12+630+22 -> 829 | L25: =390+1050 -> 1440 | M25: =K25+90 -> 919 | N25: =ROUND(M25*100/L25,1) -> 63.8 | O25: =M25*0.4 -> 367.6 | P25: 270 | Q25: 4 | R25: =Q25-'3.1-khoa2018-T4'!H25 -> 4
A26: 24 | B26: Quản trị DN | C26: =720+20+165+12 -> 917 | D26: =390+1080 -> 1470 | E26: =ROUND(C26*100/D26,1) -> 62.4 | F26: =C26*0.4 -> 366.8 | G26: 270 | H26: =ROUND((F26-G26)/30,0) -> 3 | I26: 3/4 | K26: =720+20+165+12 -> 917 | L26: =390+1080 -> 1470 | M26: =K26+90 -> 1007 | N26: =ROUND(M26*100/L26,1) -> 68.5 | O26: =M26*0.4 -> 402.8 | P26: 270 | Q26: 5 | R26: =Q26-'3.1-khoa2018-T4'!H26 -> 4
A27: 25 | B27: Tài chính DN | C27: =645+24+165+12 -> 846 | D27: =390+1050 -> 1440 | E27: =ROUND(C27*100/D27,1) -> 58.8 | F27: =C27*0.4 -> 338.4 | G27: 270 | H27: =ROUND((F27-G27)/30,0) -> 2 | I27: 1/3 | K27: =645+24+165+12 -> 846 | L27: =390+1050 -> 1440 | M27: =K27+90 -> 936 | N27: =ROUND(M27*100/L27,1) -> 65 | O27: =M27*0.4 -> 374.4 | P27: 270 | Q27: 4 | R27: =Q27-'3.1-khoa2018-T4'!H27 -> 4
A28: 26 | B28: Tiếng Anh | C28: =165+12+615+22 -> 814 | D28: =1035+390 -> 1425 | E28: =ROUND(C28*100/D28,1) -> 57.1 | F28: =C28*0.4 -> 325.6 | G28: 270 | H28: =ROUND((F28-G28)/30,0) -> 2 | I28: 4/6 | K28: =165+12+615+22 -> 814 | L28: =1035+390 -> 1425 | M28: =K28+90 -> 904 | N28: =ROUND(M28*100/L28,1) -> 63.4 | O28: =M28*0.4 -> 361.6 | P28: 270 | Q28: 4 | R28: =Q28-'3.1-khoa2018-T4'!H28 -> 4
A29: 27 | B29: Công nghệ may | C29: =165+12+825+20 -> 1022 | D29: =1140+390 -> 1530 | E29: =ROUND(C29*100/D29,1) -> 66.8 | F29: =C29*0.4 -> 408.8 | G29: 270 | H29: =ROUND((F29-G29)/30,0) -> 5 | I29: 2/3 | K29: =165+12+825+20 -> 1022 | L29: =1140+390 -> 1530 | M29: =K29+90 -> 1112 | N29: =ROUND(M29*100/L29,1) -> 72.7 | O29: =M29*0.4 -> 444.8 | P29: 270 | Q29: 6 | R29: =Q29-'3.1-khoa2018-T4'!H29 -> 3
A30: TỔNG CỘNG | C30: 16/21 NGÀNH ĐẠT 60% | H30: =COUNT(H3:H29) -> 21 | L30: 21/21 NGÀNH ĐẠT 60%
C32: =795+26 -> 821 | D32: 1275 | E32: =ROUND(C32*100/D32,1) -> 64.4 | F32: =C32*0.4 -> 328.4 | G32: 270 | H32: =ROUND((F32-G32)/30,0) -> 2
B33: Thống kê chương trình cao đẳng | C33: =855+28 -> 883 | D33: 1305 | E33: =ROUND(C33*100/D33,1) -> 67.7 | F33: =C33*0.4 -> 353.2 | G33: 270 | H33: =ROUND((F33-G33)/30,0) -> 3
B34: Tổng số % đạt tỷ lệ 60% của toàn khóa: | C34: =165+12+795+16 -> 988 | D34: =390+1125 -> 1515 | E34: =ROUND(C34*100/D34,1) -> 65.2 | F34: =C34*0.4 -> 395.2 | G34: 270 | H34: =ROUND((F34-G34)/30,0) -> 4
B35: Tổng số % đạt tỷ lệ 60% trừ môn học chung: | C35: 3/3 NGÀNH ĐẠT 60%
B37: TỔNG SỐ CTDT (CĐ+TC) ĐẠT 60% TOÀN KHÓA:
B38: TỔNG SỐ CTDT (CĐ+TC) ĐẠT 60% TRỪ PHẦN CHUNG | G38: 0.7619 | I38: Tổng số % số CTDT T4 đạt tỷ lệ 60% trừ văn hóa:
G39: 0.7916 | I39: Tổng số % số CTDT T4+T2 đạt tỷ lệ 60% trừ văn hóa:

Sheet 3.1-khoa2018-T4
A1: BẢNG THỐNG KÊ TỔNG ĐẠT 60% THỰC HÀNH TOÀN CHƯƠNG TRÌNH VÀ 40% THỰC HÀNH HỌC TẠI DOANH NGHIỆP TRÌNH ĐỘ TRUNG CẤP - KHÓA 2018
A2: TT | B2: Tên ngành | C2: Số giờ tổng của CTĐT | D2: Số giờ TH của CTĐT | E2: Tỷ lệ % TH/Tổng số giờ của CTĐT | F2: Số giờ TH 40% học tại DN | G2: Số giờ TTTN tại DN | H2: Số tín chỉ TH tối thiểu học tại DN còn lại | I2: Số môn TH/ số tín chỉ TH của HK4,5,6 (trừ TTTN)
A3: 1 | B3: Kỹ thuật xây dựng | C3: 1050 | D3: =645+20 -> 665 | E3: =ROUND(D3*100/C3,1) -> 63.3 | F3: =D3*0.4 -> 266 | G3: 270 | H3: 0 | I3: 5/11
A4: 2 | B4: Cơ điện tử | C4: 1125 | D4: =795+16 -> 811 | E4: =ROUND(D4*100/C4,1) -> 72.1 | F4: =D4*0.4 -> 324.4 | G4: 270 | H4: 2 | I4: 5/12
A5: 3 | B5: CNKT Điện Điện tử | C5: 1095 | D5: 735 | E5: =ROUND(D5*100/C5,1) -> 67.1 | F5: =D5*0.4 -> 294 | G5: 270 | H5: 1 | I5: 4/10
A6: 4 | B6: CNKT Điều khiển tự động hóa
A7: 5 | B7: Điện công nghiệp | C7: 1125 | D7: 811 | E7: =ROUND(D7*100/C7,1) -> 72.1 | F7: =D7*0.4 -> 324.4 | G7: 270 | H7: 2 | I7: 5/12
A8: 6 | B8: CNKT Nhiệt
A9: 7 | B9: KTML và ĐHKK | C9: 1065 | D9: =675+22 -> 697 | E9: =ROUND(D9*100/C9,1) -> 65.4 | F9: =D9*0.4 -> 278.8 | G9: 270 | H9: 0 | I9: 3/7
A10: 8 | B10: VHSC Thiết bị lạnh | C10: 1110 | D10: =765+20 -> 785 | E10: =ROUND(D10*100/C10,1) -> 70.7 | F10: =D10*0.4 -> 314 | G10: 270 | H10: 2 | I10: 4/10
A11: 9 | B11: CNKT Cơ khí | C11: 1080 | D11: =705+16 -> 721 | E11: =ROUND(D11*100/C11,1) -> 66.8 | F11: =D11*0.4 -> 288.4 | G11: 270 | H11: 1 | I11: 4/10
A12: 10 | B12: Cơ khí chế tạo | C12: 1110 | D12: =765+16 -> 781 | E12: =ROUND(D12*100/C12,1) -> 70.4 | F12: =D12*0.4 -> 312.4 | G12: 270 | H12: 2 | I12: 4/8
A13: 11 | B13: Công nghệ Chế tạo
A14: 12 | B14: Cắt gọt kim loại
A15: 13 | B15: BTHT Thiết bị công nghiệp
A16: 14 | B16: Công nghệ ô tô | C16: 1065 | D16: =675+16 -> 691 | E16: =ROUND(D16*100/C16,1) -> 64.9 | F16: =D16*0.4 -> 276.4 | G16: 270 | H16: 1 | I16: 4/8
A17: 15 | B17: Thương mại điện tử
A18: 16 | B18: Quản trị mạng máy tính | C18: 1140 | D18: =825+30 -> 855 | E18: =ROUND(D18*100/C18,1) -> 75 | F18: =D18*0.4 -> 342 | G18: 270 | H18: 3 | I18: 10 mô đun/11 tín chỉ thực hành
A19: 17 | B19: CNKT phần cứng máy tính | C19: 1140 | D19: =825+30 -> 855 | E19: =ROUND(D19*100/C19,1) -> 75 | F19: =D19*0.4 -> 342 | G19: 270 | H19: 3 | I19: 9 mô đun/11 tín chỉ thực hành
A20: 18 | B20: Thiết kế đồ họa | C20: 1140 | D20: =825+30 -> 855 | E20: =ROUND(D20*100/C20,1) -> 75 | F20: =D20*0.4 -> 342 | G20: 270 | H20: 3 | I20: 6 mô đun/6 tín chỉ thực hành
A21: 19 | B21: An ninh mạng | C21: 1140 | D21: =825+30 -> 855 | E21: =ROUND(D21*100/C21,1) -> 75 | F21: =D21*0.4 -> 342 | G21: 270 | H21: 3 | I21: 9 mô đun/12 tín chỉ thực hành
A22: 20 | B22: Lập trình máy tính | C22: 1125 | D22: 817 | E22: =ROUND(D22*100/C22,1) -> 72.6 | F22: =D22*0.4 -> 326.8 | G22: 270 | H22: 2 | I22: 6 mô đun/9 tín chỉ thực hành
A23: 21 | B23: Tin học ứng dụng | C23: 1140 | D23: 851 | E23: =ROUND(D23*100/C23,1) -> 74.6 | F23: =D23*0.4 -> 340.4 | G23: 270 | H23: 3 | I23: 5 mô đun/8 tín chỉ thực hành
A24: 22 | B24: Thiết kế trang Web | C24: 1125 | D24: 819 | E24: =ROUND(D24*100/C24,1) -> 72.8 | F24: =D24*0.4 -> 327.6 | G24: 270 | H24: 2 | I24: 7 mô đun/9 tín chỉ thực hành
A25: 23 | B25: Kế toán DN | C25: 1050 | D25: =630+22 -> 652 | E25: =ROUND(D25*100/C25,1) -> 62.1 | F25: =D25*0.4 -> 260.8 | G25: 270 | H25: 0 | I25: 4/9
A26: 24 | B26: Quản trị DN | C26: 1080 | D26: 740 | E26: =ROUND(D26*100/C26,1) -> 68.5 | F26: =D26*0.4 -> 296 | G26: 270 | H26: 1 | I26: 7/13
A27: 25 | B27: Tài chính DN | C27: 1050 | D27: =645+24 -> 669 | E27: =ROUND(D27*100/C27,1) -> 63.7 | F27: =D27*0.4 -> 267.6 | G27: 270 | H27: 0 | I27: 5/7
A28: 26 | B28: Tiếng Anh | C28: 1035 | D28: =615+22 -> 637 | E28: =ROUND(D28*100/C28,1) -> 61.5 | F28: =D28*0.4 -> 254.8 | G28: 270 | H28: 0 | I28: 4/8
A29: 27 | B29: Công nghệ may | C29: 1140 | D29: =825+20 -> 845 | E29: =ROUND(D29*100/C29,1) -> 74.1 | F29: =D29*0.4 -> 338 | G29: 270 | H29: 3 | I29: 4/11
A30: TỔNG CỘNG | C30: 21/21 ngành đạt 60% | H30: =COUNT(H3:H29) -> 21
B33: Thống kê chương trình cao đẳng
B34: Tổng số % đạt tỷ lệ 60% của toàn khóa:
B35: Tổng số % đạt tỷ lệ 60% trừ môn học chung: | D35: TỔNG CỘNG: | E35: 3/3 NGÀNH ĐẠT 60%
B37: TỔNG SỐ CTDT (CĐ+TC) ĐẠT 60% TOÀN KHÓA:
B38: TỔNG SỐ CTDT (CĐ+TC) ĐẠT 60% TRỪ PHẦN CHUNG | G38: 1 | I38: Tổng số % số CTDT T4 đạt tỷ lệ 60% trừ văn hóa:
G39: 1 | I39: Tổng số % số CTDT T4+T2 đạt tỷ lệ 60% trừ văn hóa:

Sheet 3.1-khoa2018-T2
A1: BẢNG THỐNG KÊ TỔNG ĐẠT 60% THỰC HÀNH TOÀN CHƯƠNG TRÌNH VÀ 40% THỰC HÀNH HỌC TẠI DOANH NGHIỆP TRÌNH ĐỘ TRUNG CẤP (T2) - KHÓA 2018
A2: TT | B2: Tên ngành | C2: Số giờ tổng của CTĐT | D2: Số giờ TH của CTĐT | E2: Tỷ lệ % TH/Tổng số giờ của CTĐT | F2: Số giờ TH 40% học tại DN | G2: Số giờ TTTN tại DN | H2: Số tín chỉ TH tối thiểu học tại DN còn lại | I2: Số môn TH/ số tín chỉ TH của HK4,5,6 (trừ TTTN)
A3: 1 | B3: Công nghệ ô tô | C3: 960 | D3: 698 | E3: =ROUND(D3*100/C3,1) -> 72.7 | F3: =D3*0.4 -> 279.2 | G3: 270 | H3: =ROUND((F3-G3)/30,0) -> 0
A4: TỔNG CỘNG | C4: 01/01 ngành đạt | H4: =COUNT(H3:H3) -> 1
B7: Thống kê chương trình cao đẳng
B8: Tổng số % đạt tỷ lệ 60% của toàn khóa:
B9: Tổng số % đạt tỷ lệ 60% trừ môn học chung: | D9: TỔNG CỘNG: | E9: 3/3 NGÀNH ĐẠT 60%
B11: TỔNG SỐ CTDT (CĐ+TC) ĐẠT 60% TOÀN KHÓA:
B12: TỔNG SỐ CTDT (CĐ+TC) ĐẠT 60% TRỪ PHẦN CHUNG | G12: 1 | I12: Tổng số % số CTDT T4 đạt tỷ lệ 60% trừ văn hóa:
G13: 1 | I13: Tổng số % số CTDT T4+T2 đạt tỷ lệ 60% trừ văn hóa:
C17: Công nghệ Ô tô | D17: 821 | E17: 1275 | F17: =ROUND(D17*100/E17,1) -> 64.4 | G17: =D17*0.4 -> 328.4 | H17: 270 | I17: =ROUND((G17-H17)/30,0) -> 2 | L17: 698 | M17: 960 | N17: =ROUND(L17*100/M17,1) -> 72.7 | O17: =L17*0.4 -> 279.2 | P17: 270 | Q17: =ROUND((O17-P17)/30,0) -> 0

Sheet TK-18T2
A1: BẢNG THỐNG KÊ TỔNG ĐẠT 60% THỰC HÀNH TOÀN CHƯƠNG TRÌNH VÀ 40% THỰC HÀNH HỌC TẠI DOANH NGHIỆP TRÌNH ĐỘ TRUNG CẤP (T2) - KHÓA 2018
A2: TT | B2: Tên ngành | C2: Số giờ tổng của CTĐT | D2: Số giờ TH của CTĐT | E2: Tỷ lệ % TH/Tổng số giờ của CTĐT | F2: Số giờ TH 40% học tại DN | G2: Số giờ TTTN tại DN | H2: Số TC học tại DN | I2: Số môn TH/ số tín chỉ TH của HK4,5,6 (trừ TTTN) | K2: Số giờ tổng của CTĐT | L2: Số giờ TH của CTĐT | M2: Tỷ lệ % TH/Tổng số giờ của CTĐT | N2: Số giờ TH 40% học tại DN | O2: Số giờ TTTN tại DN | P2: Số TC học tại DN | Q2: Số TC học tại DN thay đổi bổ sung kiến tập
A3: 1 | B3: Công nghệ ô tô | C3: 1275 | D3: 821 | E3: =ROUND(D3*100/C3,1) -> 64.4 | F3: =D3*0.4 -> 328.4 | G3: 270 | H3: =ROUND((F3-G3)/30,0) -> 2 | K3: 1275 | L3: =821+90 -> 911 | M3: =ROUND(L3*100/K3,1) -> 71.5 | N3: =L3*0.4 -> 364.4 | O3: 270 | P3: 4 | Q3: =P3-'3.1-khoa2018-T2'!H3 -> 4
A4: TỔNG CỘNG | C4: 01/01 ngành đạt | H4: =COUNT(H3:H3) -> 1 | K4: 01/01 ngành đạt
B7: Thống kê chương trình cao đẳng
B8: Tổng số % đạt tỷ lệ 60% của toàn khóa:
B9: Tổng số % đạt tỷ lệ 60% trừ môn học chung: | D9: TỔNG CỘNG: | E9: 3/3 NGÀNH ĐẠT 60%
B11: TỔNG SỐ CTDT (CĐ+TC) ĐẠT 60% TOÀN KHÓA:
B12: TỔNG SỐ CTDT (CĐ+TC) ĐẠT 60% TRỪ PHẦN CHUNG | G12: 1 | I12: Tổng số % số CTDT T4 đạt tỷ lệ 60% trừ văn hóa:
G13: 1 | I13: Tổng số % số CTDT T4+T2 đạt tỷ lệ 60% trừ văn hóa:
C17: Công nghệ Ô tô | D17: 821 | E17: 1275 | F17: =ROUND(D17*100/E17,1) -> 64.4 | G17: =D17*0.4 -> 328.4 | H17: 270 | I17: =ROUND((G17-H17)/30,0) -> 2 | L17: 698 | M17: 960 | N17: =ROUND(L17*100/M17,1) -> 72.7 | O17: =L17*0.4 -> 279.2 | P17: 270 | Q17: =ROUND((O17-P17)/30,0) -> 0

Sheet 3.7-khoa2018-C1
A1: THỐNG KÊ 30% SỐ MÔ ĐUN, MÔN HỌC THỰC HÀNH HỌC TẠI DOANH NGHIỆP TRÌNH ĐỘ CAO ĐẲNG - KHÓA 2018
A2: TT | B2: Tên ngành | C2: Số giờ TH | D2: Số giờ tổng | E2: Tỷ lệ % TH | F2: Số giờ 40% | G2: Số giờ TTTN | H2: Số TC học tại DN | I2: Số môn TH/ số tín chỉ TH của HK4,5,6 (trừ TTTN) | J2: Số MĐ, MH toàn khóa (trừ TTTN) | K2: Số lượng MĐ, MH thực hành toàn khóa | L2: 30% số lượng MĐ, MH thực hành được DN đánh giá | M2: Tỷ lệ 30% đạt được | N2: 30% số lượng MĐ, MH thực hành được DN đánh giá (sau khi trừ TTTN)
A3: 1 | B3: Kỹ thuật xây dựng | C3: =780+38 -> 818 | D3: 1395 | E3: =ROUND(C3*100/D3,1) -> 58.6 | F3: =C3*0.4 -> 327.2 | G3: 270 | H3: =ROUND((F3-G3)/30,0) -> 2 | I3: 3/8 | J3: 9 | K3: 10 | L3: =K3*0.3 -> 3 | M3: =VALUE((L3/K3)*100) -> 30 | N3: 2
A4: 2 | B4: Cơ điện tử | C4: =1020+30 -> 1050 | D4: 1515 | E4: =ROUND(C4*100/D4,1) -> 69.3 | F4: =C4*0.4 -> 420 | G4: 270 | H4: =ROUND((F4-G4)/30,0) -> 5 | I4: 5/10 | J4: 12 | K4: 13 | L4: 4 | M4: =VALUE((L4/K4)*100) -> 30.769231 | N4: 3
A5: 3 | B5: CNKT Điện Điện tử | C5: =1020+30 -> 1050 | D5: 1515 | E5: =ROUND(C5*100/D5,1) -> 69.3 | F5: =C5*0.4 -> 420 | G5: 270 | H5: =ROUND((F5-G5)/30,0) -> 5 | I5: 5/10 | J5: 12 | K5: 13 | L5: 4 | M5: =VALUE((L5/K5)*100) -> 30.769231 | N5: 3
A6: 4 | B6: CNKT Điều khiển tự động hóa | C6: =1020+30 -> 1050 | D6: 1515 | E6: =ROUND(C6*100/D6,1) -> 69.3 | F6: =C6*0.4 -> 420 | G6: 270 | H6: =ROUND((F6-G6)/30,0) -> 5 | I6: 5/10 | J6: 12 | K6: 13 | L6: 4 | M6: =VALUE((L6/K6)*100) -> 30.769231 | N6: 3
A7: 5 | B7: Điện công nghiệp | C7: =1020+30 -> 1050 | D7: 1515 | E7: =ROUND(C7*100/D7,1) -> 69.3 | F7: =C7*0.4 -> 420 | G7: 270 | H7: =ROUND((F7-G7)/30,0) -> 5 | I7: 5/10 | J7: 12 | K7: 13 | L7: 4 | M7: =VALUE((L7/K7)*100) -> 30.769231 | N7: 3
A8: 6 | B8: CNKT Nhiệt | C8: =932 -> 932 | D8: 1455 | E8: =ROUND(C8*100/D8,1) -> 64.1 | F8: =C8*0.4 -> 372.8 | G8: 270 | H8: =ROUND((F8-G8)/30,0) -> 3 | I8: 2/6 | J8: 7 | K8: 8 | L8: 3 | M8: =VALUE((L8/K8)*100) -> 37.5 | N8: 2
A9: 7 | B9: KTML và ĐHKK | C9: =990+30 -> 1020 | D9: 1500 | E9: =ROUND(C9*100/D9,1) -> 68 | F9: =C9*0.4 -> 408 | G9: 270 | H9: =ROUND((F9-G9)/30,0) -> 5 | I9: 3/9 | J9: 8 | K9: 9 | L9: 3 | M9: =VALUE((L9/K9)*100) -> 33.333333 | N9: 2
A10: 8 | B10: VHSC Thiết bị lạnh | C10: =990+30 -> 1020 | D10: 1500 | E10: =ROUND(C10*100/D10,1) -> 68 | F10: =C10*0.4 -> 408 | G10: 270 | H10: =ROUND((F10-G10)/30,0) -> 5 | I10: 3/9 | J10: 8 | K10: 9 | L10: 3 | M10: =VALUE((L10/K10)*100) -> 33.333333 | N10: 2
A11: 9 | B11: CNKT Cơ khí | C11: =990+28 -> 1018 | D11: 1500 | E11: =ROUND(C11*100/D11,1) -> 67.9 | F11: =C11*0.4 -> 407.2 | G11: 270 | H11: =ROUND((F11-G11)/30,0) -> 5 | I11: 4/8 | J11: 10 | K11: 11 | L11: 4 | M11: =VALUE((L11/K11)*100) -> 36.363636 | N11: 3
A12: 10 | B12: Cơ khí chế tạo
A13: 11 | B13: Công nghệ Chế tạo máy | C13: =1050+26 -> 1076 | D13: 1530 | E13: =ROUND(C13*100/D13,1) -> 70.3 | F13: =C13*0.4 -> 430.4 | G13: 270 | H13: =ROUND((F13-G13)/30,0) -> 5 | I13: 4/9 | J13: 10 | K13: 11 | L13: 4 | M13: =VALUE((L13/K13)*100) -> 36.363636 | N13: 3
A14: 12 | B14: Cắt gọt kim loại | C14: =1050+26 -> 1076 | D14: 1530 | E14: =ROUND(C14*100/D14,1) -> 70.3 | F14: =C14*0.4 -> 430.4 | G14: 270 | H14: =ROUND((F14-G14)/30,0) -> 5 | I14: 4/9 | J14: 10 | K14: 11 | L14: 4 | M14: =VALUE((L14/K14)*100) -> 36.363636 | N14: 3
A15: 13 | B15: BTHT Thiết bị công nghiệp | C15: =975+32 -> 1007 | D15: 1500 | E15: =ROUND(C15*100/D15,1) -> 67.1 | F15: =C15*0.4 -> 402.8 | G15: 270 | H15: =ROUND((F15-G15)/30,0) -> 4 | I15: 4/10 | J15: 9 | K15: 10 | L15: 4 | M15: =VALUE((L15/K15)*100) -> 40 | N15: 3
A16: 14 | B16: Công nghệ ô tô | C16: =990+26 -> 1016 | D16: 1500 | E16: =ROUND(C16*100/D16,1) -> 67.7 | F16: =C16*0.4 -> 406.4 | G16: 270 | H16: =ROUND((F16-G16)/30,0) -> 5 | I16: 4/7 | J16: 13 | K16: 14 | L16: 5 | M16: =VALUE((L16/K16)*100) -> 35.714286 | N16: 4
A17: 15 | B17: Thương mại điện tử | C17: =1050+34 -> 1084 | D17: 1530 | E17: =ROUND(C17*100/D17,1) -> 70.8 | F17: =C17*0.4 -> 433.6 | G17: 270 | H17: =ROUND((F17-G17)/30,0) -> 5 | I17: 5 mô đun/7 tín chỉ thực hành | J17: 16 | K17: 17 | L17: 6 | M17: =VALUE((L17/K17)*100) -> 35.294118 | N17: 5
A18: 16 | B18: Quản trị mạng máy tính | C18: =1020+38 -> 1058 | D18: 1515 | E18: =ROUND(C18*100/D18,1) -> 69.8 | F18: =C18*0.4 -> 423.2 | G18: 270 | H18: =ROUND((F18-G18)/30,0) -> 5 | I18: 6 mô đun/6 tín chỉ thực hành | J18: 20 | K18: 21 | L18: 7 | M18: =VALUE((L18/K18)*100) -> 33.333333 | N18: 6
A19: 17 | B19: CNKT máy tính | C19: =1020+38 -> 1058 | D19: 1515 | E19: =ROUND(C19*100/D19,1) -> 69.8 | F19: =C19*0.4 -> 423.2 | G19: 270 | H19: =ROUND((F19-G19)/30,0) -> 5 | I19: 6 mô đun/6 tín chỉ thực hành | J19: 19 | K19: 20 | L19: =K19*0.3 -> 6 | M19: =VALUE((L19/K19)*100) -> 30 | N19: 5
A20: 18 | B20: Thiết kế đồ họa | C20: =1080+40 -> 1120 | D20: 1545 | E20: =ROUND(C20*100/D20,1) -> 72.5 | F20: =C20*0.4 -> 448 | G20: 270 | H20: =ROUND((F20-G20)/30,0) -> 6 | I20: 5 mô đun/6 tín chỉ thực hành | J20: 20 | K20: 21 | L20: 7 | M20: =VALUE((L20/K20)*100) -> 33.333333 | N20: 6
A21: 19 | B21: An ninh mạng
A22: 20 | B22: Lập trình máy tính | C22: =1050+34 -> 1084 | D22: 1530 | E22: =ROUND(C22*100/D22,1) -> 70.8 | F22: =C22*0.4 -> 433.6 | G22: 270 | H22: =ROUND((F22-G22)/30,0) -> 5 | I22: 5 mô đun/6 tín chỉ thực hành | J22: 18 | K22: 19 | L22: 6 | M22: =VALUE((L22/K22)*100) -> 31.578947 | N22: 5
A23: 21 | B23: Tin học ứng dụng | C23: =1080+34 -> 1114 | D23: 1545 | E23: =ROUND(C23*100/D23,1) -> 72.1 | F23: =C23*0.4 -> 445.6 | G23: 270 | H23: =ROUND((F23-G23)/30,0) -> 6 | I23: 5 mô đun/6 tín chỉ thực hành | J23: 17 | K23: 18 | L23: 6 | M23: =VALUE((L23/K23)*100) -> 33.333333 | N23: 5
A24: 22 | B24: Thiết kế Web
A25: 23 | B25: Kế toán DN | C25: =780+28 -> 808 | D25: 1380 | E25: =ROUND(C25*100/D25,1) -> 58.6 | F25: =C25*0.4 -> 323.2 | G25: 270 | H25: =ROUND((F25-G25)/30,0) -> 2 | I25: 3/8 | J25: 6 | K25: 7 | L25: 3 | M25: =VALUE((L25/K25)*100) -> 42.857143 | N25: 2
A26: 24 | B26: Quản trị DN | C26: =810+34 -> 844 | D26: 1395 | E26: =ROUND(C26*100/D26,1) -> 60.5 | F26: =C26*0.4 -> 337.6 | G26: 270 | H26: =ROUND((F26-G26)/30,0) -> 2 | I26: 4/8 | J26: 11 | K26: 12 | L26: 4 | M26: =VALUE((L26/K26)*100) -> 33.333333 | N26: 3
A27: 25 | B27: Tài chính DN
A28: 26 | B28: Tiếng Anh | C28: =840+36 -> 876 | D28: 1455 | E28: =ROUND(C28*100/D28,1) -> 60.2 | F28: =C28*0.4 -> 350.4 | G28: 270 | H28: =ROUND((F28-G28)/30,0) -> 3 | I28: 4/8 | J28: 9 | K28: 10 | L28: 3 | M28: =VALUE((L28/K28)*100) -> 30 | N28: 2
A29: 27 | B29: Công nghệ may | C29: =1050+36 -> 1086 | D29: 1530 | E29: =ROUND(C29*100/D29,1) -> 71 | F29: =C29*0.4 -> 434.4 | G29: 270 | H29: =ROUND((F29-G29)/30,0) -> 5 | I29: 3/10 | J29: 10 | K29: 11 | L29: 4 | M29: =VALUE((L29/K29)*100) -> 36.363636 | N29: 3
A30: TỔNG CỘNG | C30: 23 NGÀNH | H30: =COUNT(H3:H29) -> 23 | K30: 23 ngành | M30: =COUNTIF(M3:M29,">=30") -> 23 | N30: =COUNT(N3:N29) -> 23
B33: Thống kê chương trình cao đẳng
B34: Tổng số % đạt tỷ lệ 60% của toàn khóa:
B35: Tổng số % đạt tỷ lệ 60% trừ môn học chung:
B37: TỔNG SỐ CTDT (CĐ+TC) ĐẠT 60% TOÀN KHÓA:
B38: TỔNG SỐ CTDT (CĐ+TC) ĐẠT 60% TRỪ PHẦN CHUNG
B41: * Thống kê: 23 ngành (có 19 ngành đạt tỷ lệ 30% số mô đun, môn học thực hành học tại DN là 19/23 ngành (82,6%))

Sheet 3.7-khoa2018-T4
A1: THỐNG KÊ 30% SỐ MÔ ĐUN, MÔN HỌC THỰC HÀNH HỌC TẠI DOANH NGHIỆP TRÌNH ĐỘ TRUNG CẤP - KHÓA 2018
A2: TT | B2: Tên ngành | C2: Số giờ TH | D2: Số giờ tổng | E2: Tỷ lệ % TH | F2: Số giờ 40% | G2: Số giờ TTTN | H2: Số TC học tại DN | I2: Số môn TH/ số tín chỉ TH của HK4,5,6 (trừ TTTN) | J2: Số MĐ, MH toàn khóa (trừ TTTN) | K2: Số lượng MĐ, MH thực hành toàn khóa | L2: 30% số lượng MĐ, MH thực hành được DN đánh giá | M2: Tỷ lệ 30% đạt được | N2: 30% số lượng MĐ, MH thực hành được DN đánh giá (sau khi trừ TTTN)
A3: 1 | B3: Kỹ thuật xây dựng | C3: =645+20 -> 665 | D3: 1050 | E3: =ROUND(C3*100/D3,1) -> 63.3 | F3: =C3*0.4 -> 266 | G3: 270 | H3: =ROUND((F3-G3)/30,0) -> 0 | I3: 5/11 | J3: 5 | K3: =J3+1 -> 6 | L3: 2 | M3: =(L3/K3)*100 -> 33.333333 | N3: =L3-1 -> 1
A4: 2 | B4: Cơ điện tử | C4: =795+16 -> 811 | D4: 1125 | E4: =ROUND(C4*100/D4,1) -> 72.1 | F4: =C4*0.4 -> 324.4 | G4: 270 | H4: =ROUND((F4-G4)/30,0) -> 2 | I4: 5/12 | J4: 7 | K4: =J4+1 -> 8 | L4: 3 | M4: =(L4/K4)*100 -> 37.5 | N4: =L4-1 -> 2
A5: 3 | B5: CNKT Điện Điện tử | C5: 735 | D5: 1095 | E5: =ROUND(C5*100/D5,1) -> 67.1 | F5: =C5*0.4 -> 294 | G5: 270 | H5: =ROUND((F5-G5)/30,0) -> 1 | I5: 4/10 | J5: 6 | K5: =J5+1 -> 7 | L5: 3 | M5: =(L5/K5)*100 -> 42.857143 | N5: =L5-1 -> 2
A6: 4 | B6: CNKT Điều khiển tự động hóa
A7: 5 | B7: Điện công nghiệp | C7: 811 | D7: 1125 | E7: =ROUND(C7*100/D7,1) -> 72.1 | F7: =C7*0.4 -> 324.4 | G7: 270 | H7: =ROUND((F7-G7)/30,0) -> 2 | I7: 5/12 | J7: 7 | K7: =J7+1 -> 8 | L7: 3 | M7: =(L7/K7)*100 -> 37.5 | N7: =L7-1 -> 2
A8: 6 | B8: CNKT Nhiệt
A9: 7 | B9: KTML và ĐHKK | C9: =675+22 -> 697 | D9: 1065 | E9: =ROUND(C9*100/D9,1) -> 65.4 | F9: =C9*0.4 -> 278.8 | G9: 270 | H9: =ROUND((F9-G9)/30,0) -> 0 | I9: 3/7 | J9: 5 | K9: =J9+1 -> 6 | L9: 2 | M9: =(L9/K9)*100 -> 33.333333 | N9: =L9-1 -> 1
A10: 8 | B10: VHSC Thiết bị lạnh | C10: =765+20 -> 785 | D10: 1110 | E10: =ROUND(C10*100/D10,1) -> 70.7 | F10: =C10*0.4 -> 314 | G10: 270 | H10: =ROUND((F10-G10)/30,0) -> 1 | I10: 4/10 | J10: 6 | K10: =J10+1 -> 7 | L10: 3 | M10: =(L10/K10)*100 -> 42.857143 | N10: =L10-1 -> 2
A11: 9 | B11: CNKT Cơ khí | C11: =705+16 -> 721 | D11: 1080 | E11: =ROUND(C11*100/D11,1) -> 66.8 | F11: =C11*0.4 -> 288.4 | G11: 270 | H11: =ROUND((F11-G11)/30,0) -> 1 | I11: 4/10 | J11: 7 | K11: =J11+1 -> 8 | L11: 3 | M11: =(L11/K11)*100 -> 37.5 | N11: =L11-1 -> 2
A12: 10 | B12: Cơ khí chế tạo | C12: =765+16 -> 781 | D12: 1110 | E12: =ROUND(C12*100/D12,1) -> 70.4 | F12: =C12*0.4 -> 312.4 | G12: 270 | H12: =ROUND((F12-G12)/30,0) -> 1 | I12: 4/8 | J12: 7 | K12: =J12+1 -> 8 | L12: 3 | M12: =(L12/K12)*100 -> 37.5 | N12: =L12-1 -> 2
A13: 11 | B13: Công nghệ Chế tạo máy
A14: 12 | B14: Cắt gọt kim loại
A15: 13 | B15: BTHT Thiết bị công nghiệp
A16: 14 | B16: Công nghệ ô tô | C16: =675+16 -> 691 | D16: 1065 | E16: =ROUND(C16*100/D16,1) -> 64.9 | F16: =C16*0.4 -> 276.4 | G16: 270 | H16: =ROUND((F16-G16)/30,0) -> 0 | I16: 4/8 | J16: 7 | K16: =J16+1 -> 8 | L16: 3 | M16: =(L16/K16)*100 -> 37.5 | N16: =L16-1 -> 2
A17: 15 | B17: Thương mại điện tử
A18: 16 | B18: Quản trị mạng máy tính | C18: =825+30 -> 855 | D18: 1140 | E18: =ROUND(C18*100/D18,1) -> 75 | F18: =C18*0.4 -> 342 | G18: 270 | H18: =ROUND((F18-G18)/30,0) -> 2 | I18: 10 mô đun/11 tín chỉ thực hành | J18: 14 | K18: =J18+1 -> 15 | L18: 5 | M18: =(L18/K18)*100 -> 33.333333 | N18: =L18-1 -> 4
A19: 17 | B19: CNKT phần cứng máy tính | C19: =825+30 -> 855 | D19: 1140 | E19: =ROUND(C19*100/D19,1) -> 75 | F19: =C19*0.4 -> 342 | G19: 270 | H19: =ROUND((F19-G19)/30,0) -> 2 | I19: 9 mô đun/11 tín chỉ thực hành | J19: 14 | K19: =J19+1 -> 15 | L19: 5 | M19: =(L19/K19)*100 -> 33.333333 | N19: =L19-1 -> 4
A20: 18 | B20: Thiết kế đồ họa | C20: =825+30 -> 855 | D20: 1140 | E20: =ROUND(C20*100/D20,1) -> 75 | F20: =C20*0.4 -> 342 | G20: 270 | H20: =ROUND((F20-G20)/30,0) -> 2 | I20: 6 mô đun/6 tín chỉ thực hành | J20: 14 | K20: =J20+1 -> 15 | L20: 5 | M20: =(L20/K20)*100 -> 33.333333 | N20: =L20-1 -> 4
A21: 19 | B21: An ninh mạng | C21: =825+30 -> 855 | D21: 1140 | E21: =ROUND(C21*100/D21,1) -> 75 | F21: =C21*0.4 -> 342 | G21: 270 | H21: =ROUND((F21-G21)/30,0) -> 2 | I21: 9 mô đun/12 tín chỉ thực hành | J21: 13 | K21: =J21+1 -> 14 | L21: 5 | M21: =(L21/K21)*100 -> 35.714286 | N21: =L21-1 -> 4
A22: 20 | B22: Lập trình máy tính | C22: 817 | D22: 1125 | E22: =ROUND(C22*100/D22,1) -> 72.6 | F22: =C22*0.4 -> 326.8 | G22: 270 | H22: =ROUND((F22-G22)/30,0) -> 2 | I22: 6 mô đun/9 tín chỉ thực hành | J22: 10 | K22: =J22+1 -> 11 | L22: 4 | M22: =(L22/K22)*100 -> 36.363636 | N22: =L22-1 -> 3
